BEGIN:VCALENDAR
VERSION:2.0
PRODID:-//ChamberMaster//Event Calendar 2.0//EN
METHOD:PUBLISH
X-PUBLISHED-TTL:P3D
REFRESH-INTERVAL:P3D
CALSCALE:GREGORIAN
BEGIN:VEVENT
DTSTART:20211103T170000Z
DTEND:20211103T180000Z
X-MICROSOFT-CDO-ALLDAYEVENT:FALSE
SUMMARY:12 QuickBooks Online Tips & Tricks
DESCRIPTION:
X-ALT-DESC;FMTTYPE=text/html:
LOCATION:
UID:e.2108.4485
SEQUENCE:3
DTSTAMP:20260420T195747Z
URL:https://business.anaheimchamber.org/events/details/12-quickbooks-online-tips-tricks-4485
END:VEVENT

END:VCALENDAR
