BEGIN:VCALENDAR
VERSION:2.0
PRODID:-//ChamberMaster//Event Calendar 2.0//EN
METHOD:PUBLISH
X-PUBLISHED-TTL:P3D
REFRESH-INTERVAL:P3D
CALSCALE:GREGORIAN
BEGIN:VEVENT
DTSTART:20151118T200000Z
DTEND:20151118T220000Z
X-MICROSOFT-CDO-ALLDAYEVENT:FALSE
SUMMARY:2015 Business Awards Luncheon
DESCRIPTION:For registration information for the Awards luncheon\, CALL the Chamber at 714 758-0222. Business Awards Luncheon - Highlighting awards given in categories such as: Lifetime Achievement\, Business Champion of the year\, Manufacturer of the Year\, Non-Profit Organization of the Year\, Man and Woman of the Year\, and many more. See the complete list on our website.
X-ALT-DESC;FMTTYPE=text/html:For registration information for the Awards luncheon\, CALL the Chamber at 714 758-0222. Business Awards Luncheon - Highlighting awards given in categories such as: Lifetime Achievement\, Business Champion of the year\, Manufacturer of the Year\, Non-Profit Organization of the Year\, Man and Woman of the Year\, and many more. See the complete list on our website.
LOCATION:Sheraton Park Hotel @ the Anaheim Resort 1855 S Harbor Blvd Anaheim\, CA 92802
UID:e.2108.1700
SEQUENCE:3
DTSTAMP:20260420T201209Z
URL:https://business.anaheimchamber.org/events/details/2015-business-awards-luncheon-11-18-2015-1700
END:VEVENT

END:VCALENDAR
