BEGIN:VCALENDAR
VERSION:2.0
PRODID:-//ChamberMaster//Event Calendar 2.0//EN
METHOD:PUBLISH
X-PUBLISHED-TTL:P3D
REFRESH-INTERVAL:P3D
CALSCALE:GREGORIAN
BEGIN:VEVENT
DTSTART:20150914T153000Z
DTEND:20150914T233000Z
X-MICROSOFT-CDO-ALLDAYEVENT:FALSE
SUMMARY:2015 Business Links Networking Golf Tournament
DESCRIPTION:Sponsorships are available that include golfers. Golf tournament\, Business Mixer and Expo. Anaheim's premier event for connecting businesses and creating networking opportunities. Registration begins at 8:30 a.m. Putting Contest - 9:00a.m. Honoree Ceremony - 10:45 a.m. Shotgun start - 11:00 a.m. After Golf Mixer - 5:00 p.m.
X-ALT-DESC;FMTTYPE=text/html:Sponsorships are available that include golfers. Golf tournament\, Business Mixer and Expo. Anaheim&#39\;s premier event for connecting businesses and creating networking opportunities. Registration begins at 8:30 a.m. Putting Contest - 9:00a.m. Honoree Ceremony - 10:45 a.m. Shotgun start - 11:00 a.m. After Golf Mixer - 5:00 p.m.
LOCATION:Anaheim Hills Golf Course 6501 E. Nohl Ranch Rd. Anaheim\, CA 92807
UID:e.2108.1675
SEQUENCE:3
DTSTAMP:20260420T165607Z
URL:https://business.anaheimchamber.org/events/details/2015-business-links-networking-golf-tournament-09-14-2015-1675
END:VEVENT

END:VCALENDAR
