BEGIN:VCALENDAR
VERSION:2.0
PRODID:-//ChamberMaster//Event Calendar 2.0//EN
METHOD:PUBLISH
X-PUBLISHED-TTL:P3D
REFRESH-INTERVAL:P3D
CALSCALE:GREGORIAN
BEGIN:VEVENT
DTSTART:20150508T000000Z
DTEND:20150508T040000Z
X-MICROSOFT-CDO-ALLDAYEVENT:FALSE
SUMMARY:2015 TASTE OF ANAHEIM
DESCRIPTION:Welcome to the Taste of Anaheim featuring food from over 46 local restaurants plus Expo booths and great entertainment.
X-ALT-DESC;FMTTYPE=text/html:Welcome to the Taste of Anaheim featuring food from over 46 local restaurants plus Expo booths and great entertainment.
LOCATION:Just 2 blocks East of Disneyland and the Anaheim Convention Center. Parking structure can be accessed from Katella Ave. or Disney Way.
UID:e.2108.1628
SEQUENCE:3
DTSTAMP:20260420T123216Z
URL:https://business.anaheimchamber.org/events/details/2015-taste-of-anaheim-05-07-2015-1628
END:VEVENT

END:VCALENDAR
