BEGIN:VCALENDAR
VERSION:2.0
PRODID:-//ChamberMaster//Event Calendar 2.0//EN
METHOD:PUBLISH
X-PUBLISHED-TTL:P3D
REFRESH-INTERVAL:P3D
CALSCALE:GREGORIAN
BEGIN:VEVENT
DTSTART:20160331T143000Z
DTEND:20160331T193000Z
X-MICROSOFT-CDO-ALLDAYEVENT:FALSE
SUMMARY:2016 Anaheim Economic Development Conference
DESCRIPTION:The Anaheim Chamber of Commerce\, in partnership with the City of Anaheim\, has hosted the Economic Development Conference over the past decade. The Conference has always provided opportunities for businesses of all sizes to become informed about and connected to the Anaheim Business Community\, as well as City of Anaheim leaders\, in order to support individual business success\, and to elevate the Anaheim and regional business community.
X-ALT-DESC;FMTTYPE=text/html:<p class="p1"><span class="s1">The Anaheim Chamber of Commerce\, in partnership with the City of Anaheim\, has hosted the Economic Development Conference over the past decade.&nbsp\;The Conference has always provided opportunities for businesses of all sizes to become informed about and connected to the Anaheim Business Community\, as well as City of Anaheim leaders\, in order to support individual business success\, and to elevate the Anaheim and regional business community.</span></p>\n
LOCATION:Honda Center- Grand Terrace 2695 E Katella Ave Anaheim\, CA 92806
UID:e.2108.1722
SEQUENCE:3
DTSTAMP:20260421T042456Z
URL:https://business.anaheimchamber.org/events/details/2016-anaheim-economic-development-conference-03-31-2016-1722
END:VEVENT

END:VCALENDAR
