BEGIN:VCALENDAR
VERSION:2.0
PRODID:-//ChamberMaster//Event Calendar 2.0//EN
METHOD:PUBLISH
X-PUBLISHED-TTL:P3D
REFRESH-INTERVAL:P3D
CALSCALE:GREGORIAN
BEGIN:VEVENT
DTSTART:20161116T150000Z
DTEND:20161116T220000Z
X-MICROSOFT-CDO-ALLDAYEVENT:FALSE
SUMMARY:2016 Anaheim Economic Development Conference
DESCRIPTION:***Click on the REGISTER NOW Link to reserve your ticket or to become a sponsor***\n\n\n\nThe Anaheim Economic Development Conference & Business Awards will be the premier professional development and relationship building event of the year. This educational conference will provide opportunities for businesses of  all sizes to become informed and to connect with the Anaheim business community\, as well as leaders from the City of Anaheim\, in order to support individual business success\, and to elevate the Anaheim and regional business community.\n\n\n\nWe will take a look at Anaheim's economic development structure and feature experts leading the way in the infrastructure\, manufacturing\, technology\, and tourism industries.\n\n\n\nNew to this event will be an exclusive VIP Reception  for top sponsors\, panelists\, elected officials and award winners prior to the Business Awards Luncheon. The luncheon ultimately bridges our economic development messaging by recognizing businesses and business leaders leading the way in Anaheim.\n\n\n\nCLICK HERE for more information
X-ALT-DESC;FMTTYPE=text/html:***Click on the <a href="https://anaheimchamber.chambermaster.com/eventregistration/register/2267">REGISTER NOW</a> Link to reserve your ticket or to become a sponsor***<br />\n<br />\nThe Anaheim Economic Development Conference &amp\; Business Awards will be the premier professional development and relationship building event of the year. This educational conference will provide opportunities for businesses of &nbsp\;all sizes to become informed and to connect with the Anaheim business community\, as well as leaders from the City of Anaheim\, in order to support individual business success\, and to elevate the Anaheim and regional business community.<br />\n<br />\nWe will take a look at Anaheim&rsquo\;s economic development structure and feature experts leading the way in the infrastructure\, manufacturing\, technology\, and tourism industries.<br />\n<br />\nNew to this event will be an exclusive VIP Reception &nbsp\;for top sponsors\, panelists\, elected officials and award winners prior to the Business Awards Luncheon. The luncheon ultimately bridges our economic development messaging by recognizing businesses and business leaders leading the way in Anaheim.<br />\n<br />\n<a href="http://www.anaheimchamber.org/pages/AnaheimEconomicDevelopmentConference">CLICK HERE</a> for more information
LOCATION:Disney's Paradise Pier Hotel 1717 Disneyland Dr. Anaheim\, CA 92802
UID:e.2108.2267
SEQUENCE:3
DTSTAMP:20260421T155658Z
URL:https://business.anaheimchamber.org/events/details/2016-anaheim-economic-development-conference-2267
END:VEVENT

END:VCALENDAR
