BEGIN:VCALENDAR
VERSION:2.0
PRODID:-//ChamberMaster//Event Calendar 2.0//EN
METHOD:PUBLISH
X-PUBLISHED-TTL:P3D
REFRESH-INTERVAL:P3D
CALSCALE:GREGORIAN
BEGIN:VEVENT
DTSTART:20160804T143000Z
DTEND:20160804T170000Z
X-MICROSOFT-CDO-ALLDAYEVENT:FALSE
SUMMARY:2016 Economic Development Forum
DESCRIPTION:2016 Economic Development Forum\n\nAre you ready for social solutions to economic challenges?\n\nAnd what's the government's role?\n\nJoin us for a panel discussion involving mobility\, space sharing\, and drones with Chief Economic Advisor OCBC\, Dr. Wallace Walrod. \n\nKeynote speaker Rob Sadow\, CEO & Founder of Scoop Technologies
X-ALT-DESC;FMTTYPE=text/html:2016 Economic Development Forum<br />\nAre you ready for social solutions to economic challenges?<br />\nAnd what&#39\;s the government&#39\;s role?<br />\nJoin us for a panel discussion involving mobility\, space sharing\, and drones with Chief Economic Advisor OCBC\, Dr. Wallace Walrod.&nbsp\;<br />\nKeynote speaker Rob Sadow\, CEO &amp\; Founder of Scoop Technologies
LOCATION:Hotel Irvine 17900 Jamboree Rd. Irvine\, CA 92614
UID:e.2108.2237
SEQUENCE:3
DTSTAMP:20260421T105422Z
URL:https://business.anaheimchamber.org/events/details/2016-economic-development-forum-08-04-2016-2237
END:VEVENT

END:VCALENDAR
