BEGIN:VCALENDAR
VERSION:2.0
PRODID:-//ChamberMaster//Event Calendar 2.0//EN
METHOD:PUBLISH
X-PUBLISHED-TTL:P3D
REFRESH-INTERVAL:P3D
CALSCALE:GREGORIAN
BEGIN:VEVENT
DTSTART:20160513T000000Z
DTEND:20160513T040000Z
X-MICROSOFT-CDO-ALLDAYEVENT:FALSE
SUMMARY:2016 TASTE OF ANAHEIM
DESCRIPTION:Welcome to the Taste of Anaheim featuring food from over 46 local restaurants plus Expo booths and great entertainment.
X-ALT-DESC;FMTTYPE=text/html:Welcome to the Taste of Anaheim featuring food from over 46 local restaurants plus Expo booths and great entertainment.
LOCATION:Just 2 blocks East of Disneyland and the Anaheim Convention Center. Parking structure can be accessed from Katella Ave. or Disney Way.
UID:e.2108.1706
SEQUENCE:3
DTSTAMP:20260421T061542Z
URL:https://business.anaheimchamber.org/events/details/2016-taste-of-anaheim-05-12-2016-1706
END:VEVENT

END:VCALENDAR
