BEGIN:VCALENDAR
VERSION:2.0
PRODID:-//ChamberMaster//Event Calendar 2.0//EN
METHOD:PUBLISH
X-PUBLISHED-TTL:P3D
REFRESH-INTERVAL:P3D
CALSCALE:GREGORIAN
BEGIN:VEVENT
DTSTART:20170425T180000Z
DTEND:20170425T210000Z
X-MICROSOFT-CDO-ALLDAYEVENT:FALSE
SUMMARY:2017 Angels Luncheon
DESCRIPTION:Celebrate the 2017 Angels Baseball Season. Featuring special appearances by 2017 Angels Players.\n\n\n\n11:00 am - Reception\n\n12:00 pm - Lunch Program
X-ALT-DESC;FMTTYPE=text/html:Celebrate the 2017 Angels Baseball Season. Featuring special appearances by 2017 Angels Players.<br />\n<br />\n11:00 am - Reception<br />\n12:00 pm - Lunch Program
LOCATION:Angel Stadium- The Lexus Diamond Club 2000 Gene Autry Way Anaheim\, CA
UID:e.2108.1861
SEQUENCE:3
DTSTAMP:20260421T233341Z
URL:https://business.anaheimchamber.org/events/details/2017-angels-luncheon-1861
END:VEVENT

END:VCALENDAR
