BEGIN:VCALENDAR
VERSION:2.0
PRODID:-//ChamberMaster//Event Calendar 2.0//EN
METHOD:PUBLISH
X-PUBLISHED-TTL:P3D
REFRESH-INTERVAL:P3D
CALSCALE:GREGORIAN
BEGIN:VEVENT
DTSTART;VALUE=DATE:20180521
DTEND;VALUE=DATE:20180522
TRANSP:TRANSPARENT
X-MICROSOFT-CDO-ALLDAYEVENT:TRUE
SUMMARY:28th Annual Golf Tournament - St. Catherine's
DESCRIPTION:28th Annual Golf Tournament\n\nHacienda Golf Club\n\nGuest Honoree - Tommy Lasorda
X-ALT-DESC;FMTTYPE=text/html:28th Annual Golf Tournament<br />\nHacienda Golf Club<br />\nGuest Honoree - Tommy Lasorda
LOCATION:Hacienda Golf Club
UID:e.2108.2449
SEQUENCE:3
DTSTAMP:20260422T204637Z
URL:https://business.anaheimchamber.org/events/details/28th-annual-golf-tournament-st-catherine-s-2449
END:VEVENT

END:VCALENDAR
