BEGIN:VCALENDAR
VERSION:2.0
PRODID:-//ChamberMaster//Event Calendar 2.0//EN
METHOD:PUBLISH
X-PUBLISHED-TTL:P3D
REFRESH-INTERVAL:P3D
CALSCALE:GREGORIAN
BEGIN:VEVENT
DTSTART:20161001T160000Z
DTEND:20161001T210000Z
X-MICROSOFT-CDO-ALLDAYEVENT:FALSE
SUMMARY:2nd Annual Car/Motorcycle Show
DESCRIPTION:Come out and join us for our 2nd Annual Car/Motorcycle show in the beautiful setting of Canyon RV Park.  This is a family friendly event\, music\, vendors and outdoors.  There is a $10.00 per carload cost to enter the Park.  Bring your family and friends and enjoy the day. 24001 E.  Santa Ana Canyon Bvld\, Anaheim.  9:00 AM - 2:00 PM.
X-ALT-DESC;FMTTYPE=text/html:<strong><span style="color:#FF0000">Come out and join us for our 2nd Annual Car/Motorcycle show in the beautiful setting of Canyon RV Park.</span></strong> &nbsp\;This is a family friendly event\, music\, vendors and outdoors. &nbsp\;<strong><span style="color:#0000FF">There is a $10.00 per carload cost to enter the Park. </span></strong>&nbsp\;Bring your family and friends and enjoy the day. 24001 E. &nbsp\;Santa Ana Canyon Bvld\, Anaheim. &nbsp\;9:00 AM - 2:00 PM.
LOCATION:
UID:e.2108.1898
SEQUENCE:3
DTSTAMP:20260421T141829Z
URL:https://business.anaheimchamber.org/events/details/2nd-annual-car-motorcycle-show-10-01-2016-1898
END:VEVENT

END:VCALENDAR
