BEGIN:VCALENDAR
VERSION:2.0
PRODID:-//ChamberMaster//Event Calendar 2.0//EN
METHOD:PUBLISH
X-PUBLISHED-TTL:P3D
REFRESH-INTERVAL:P3D
CALSCALE:GREGORIAN
BEGIN:VEVENT
DTSTART:20250412T170000Z
DTEND:20250412T220000Z
X-MICROSOFT-CDO-ALLDAYEVENT:FALSE
SUMMARY:3rd Annual BBQ Smoke Off Competition
DESCRIPTION:Join us for our 3rd Annual BBQ Smoke Off Competition and Open House. \n\n\nCome out and taste the competitors samples\, take a tour of our warehouse and see first hand what we do for Veterans\, Active Duty and Reservists throughout Southern California.  \n\n\n\nIf you are a Veteran\, we will have resources for you to check out.\n\n\n\nSaturday\, April 12\n\n10 am - 3 pm\n\n1825 E. Via Burton\n\nAnaheim\n\n\n\nTo get tickets:            https://www.zeffy.com/ticketing/2025-bbq-smoke-off-competition\n\n\n\nTo compete:                https://forms.gle/4YkmZRjnPpe6bctKA\n\n\n\nTo Sponsor/Vendor    https://forms.gle/fcHsxZZkMPyCAhz1A
X-ALT-DESC;FMTTYPE=text/html:<h1>Join us for our <strong>3rd Annual BBQ Smoke Off Competition</strong> and Open House.&nbsp\;</h1>\n<br />\nCome out and taste the competitors samples\, take a tour of our warehouse and see first hand what we do for Veterans\, Active Duty and Reservists throughout Southern California.&nbsp\;&nbsp\;<br />\n<br />\nIf you are a Veteran\, we will have resources for you to check out.<br />\n<br />\nSaturday\, April 12<br />\n10 am - 3 pm<br />\n1825 E. Via Burton<br />\nAnaheim<br />\n<br />\nTo get tickets:&nbsp\;&nbsp\;&nbsp\;&nbsp\;&nbsp\;&nbsp\;&nbsp\;&nbsp\;&nbsp\;&nbsp\;&nbsp\;&nbsp\;https://www.zeffy.com/ticketing/2025-bbq-smoke-off-competition<br />\n<br />\nTo compete:&nbsp\;&nbsp\;&nbsp\;&nbsp\;&nbsp\;&nbsp\;&nbsp\;&nbsp\;&nbsp\;&nbsp\;&nbsp\;&nbsp\;&nbsp\;&nbsp\;&nbsp\;&nbsp\;https://forms.gle/4YkmZRjnPpe6bctKA<br />\n<br />\nTo Sponsor/Vendor&nbsp\;&nbsp\;&nbsp\;&nbsp\;https://forms.gle/fcHsxZZkMPyCAhz1A
LOCATION:Patriots and Paws 1825 E. Via Burton\, Anaheim
UID:e.2108.5754
SEQUENCE:3
DTSTAMP:20260419T224518Z
URL:https://business.anaheimchamber.org/events/details/3rd-annual-bbq-smoke-off-competition-5754
END:VEVENT

END:VCALENDAR
