BEGIN:VCALENDAR
VERSION:2.0
PRODID:-//ChamberMaster//Event Calendar 2.0//EN
METHOD:PUBLISH
X-PUBLISHED-TTL:P3D
REFRESH-INTERVAL:P3D
CALSCALE:GREGORIAN
BEGIN:VEVENT
DTSTART:20150521T000000Z
DTEND:20150521T020000Z
X-MICROSOFT-CDO-ALLDAYEVENT:FALSE
SUMMARY:3rd Annual Bold Wine with Bold Leaders - S.O.A.R P.A.C Fundraiser
DESCRIPTION:Join us for this annual S.O.A.R.   P.A.C. fundraiser featuring wines selected by our "Celebrity Sommeliers" - Restauranteur and Rock Star Ryan Shuck\, Winemaker and LA Rams Quarterrback Vince Ferragamo\, and Orange County Supervisor Shawn Newlson.
X-ALT-DESC;FMTTYPE=text/html:Join us for this annual S.O.A.R. &nbsp\; P.A.C. fundraiser featuring wines selected by our &quot\;Celebrity Sommeliers&quot\; - Restauranteur and Rock Star Ryan Shuck\, Winemaker and LA Rams Quarterrback&nbsp\;Vince Ferragamo\, and Orange County Supervisor Shawn Newlson.&nbsp\;
LOCATION:Historic 'Fiscus' Home owned by Sherry & Mitch Caldwell 902 W. Broadway Anaheim\, CA 92805
UID:e.2108.1655
SEQUENCE:3
DTSTAMP:20260420T110232Z
URL:https://business.anaheimchamber.org/events/details/3rd-annual-bold-wine-with-bold-leaders-s-o-a-r-p-a-c-fundraiser-05-20-2015-1655
END:VEVENT

END:VCALENDAR
