BEGIN:VCALENDAR
VERSION:2.0
PRODID:-//ChamberMaster//Event Calendar 2.0//EN
METHOD:PUBLISH
X-PUBLISHED-TTL:P3D
REFRESH-INTERVAL:P3D
CALSCALE:GREGORIAN
BEGIN:VEVENT
DTSTART:20170501T163000Z
DTEND:20170502T020000Z
X-MICROSOFT-CDO-ALLDAYEVENT:FALSE
SUMMARY:3rd Annual Patriots and Paws Golf Tournament
DESCRIPTION:Join us for our 3rd Annual Patriots and Paws Charity Golf Tournament. Monday\, May 1st.\n\n\n\nPlease join us for World Class Golf\, Cocktail & Dinner Party along with a Live/Silent Auction.\n\n\n\n9:30 Registration and Practice Range Opens\n\n10:30 Pre Tournament Lunch Starts\n\n12:00 Shot Gun\n\n4:00 Cocktail Hour\n\n5:15 Dinner Served
X-ALT-DESC;FMTTYPE=text/html:Join us for our 3rd Annual Patriots and Paws Charity Golf Tournament. Monday\, May 1st.<br />\n<br />\n<strong>Please join us for World Class Golf\, Cocktail &amp\; Dinner Party along with a Live/Silent Auction.</strong><br />\n<br />\n9:30 Registration and Practice Range Opens<br />\n10:30 Pre Tournament Lunch Starts<br />\n12:00 Shot Gun<br />\n4:00 Cocktail Hour<br />\n5:15 Dinner Served
LOCATION:Yorba Linda Country Club\, 19400 Mountain View\, Yorba Linda\, CA
UID:e.2108.2315
SEQUENCE:3
DTSTAMP:20260422T013152Z
URL:https://business.anaheimchamber.org/events/details/3rd-annual-patriots-and-paws-golf-tournament-2315
END:VEVENT

END:VCALENDAR
