BEGIN:VCALENDAR
VERSION:2.0
PRODID:-//ChamberMaster//Event Calendar 2.0//EN
METHOD:PUBLISH
X-PUBLISHED-TTL:P3D
REFRESH-INTERVAL:P3D
CALSCALE:GREGORIAN
BEGIN:VEVENT
DTSTART:20150501T143000Z
DTEND:20150501T160000Z
X-MICROSOFT-CDO-ALLDAYEVENT:FALSE
SUMMARY:7:30 am Good Morning Anaheim
DESCRIPTION:Lighter Chen of Tomii Wellness shares the power of Chinese Medicine.\n\n\n\n\n\nNetworking begins at 7:30 a.m. followed by breakfast and 30 second commercials. Prepare to tell the group about your business or services. Bring literature and business cards. Join us for a great morning of networking and education.
X-ALT-DESC;FMTTYPE=text/html:<strong><span style="font-size:16px\;"><span style="font-family:calibri\,sans-serif\;">Lighter Chen of Tomii Wellness shares the power of Chinese Medicine.</span></span></strong><br />\n<br />\n<br />\n<span style="line-height: 20.7999992370605px\;">Networking begins at 7:30 a.m. followed by breakfast and 30 second commercials. Prepare to tell the group about your business or services. Bring literature and business cards. Join us for a great morning of networking and education.</span>
LOCATION:Bubba Gump Shrimp Co. 321 W. Katella Ave.\, Ste. 101 Anaheim\, CA 92802
UID:e.2108.1635
SEQUENCE:3
DTSTAMP:20260420T110815Z
URL:https://business.anaheimchamber.org/events/details/7-30-am-good-morning-anaheim-05-01-2015-1635
END:VEVENT

END:VCALENDAR
