BEGIN:VCALENDAR
VERSION:2.0
PRODID:-//ChamberMaster//Event Calendar 2.0//EN
METHOD:PUBLISH
X-PUBLISHED-TTL:P3D
REFRESH-INTERVAL:P3D
CALSCALE:GREGORIAN
BEGIN:VEVENT
DTSTART;VALUE=DATE:20150726
DTEND;VALUE=DATE:20150727
TRANSP:TRANSPARENT
X-MICROSOFT-CDO-ALLDAYEVENT:TRUE
SUMMARY:A DAY AT THE RACES FUNDRAISER (DEL MAR)
DESCRIPTION:Join the Anaheim Hills Community Council and the Anaheim Chamber of Commerce as we travel to the Del Mar Race Track and watch the races in style in the private VIP Suite.\n\n\n\nPackage A ($83.00) : Entrance to races\, Private VIP Suite\, and Gourmet Lunch \n\n\n\nPackage B ($115.00) : ntrance to Races\, Private VIP Suite\, and Gourmet Lunch \n\nPLUS\, ROUND TRIP transportation (Amtrak departs from ARTIC in Anaheim @ 9:00AM and arrives in Solana Beach @ 10:45AM)
X-ALT-DESC;FMTTYPE=text/html:Join the Anaheim Hills Community Council and the Anaheim Chamber of Commerce as we travel to the Del Mar Race Track and watch the races in style in the private VIP Suite.<br />\n<br />\nPackage A ($83.00) :&nbsp\;Entrance to races\, Private VIP Suite\, and Gourmet Lunch&nbsp\;<br />\n<br />\nPackage B ($115.00) :&nbsp\;ntrance to Races\, Private VIP Suite\, and Gourmet Lunch&nbsp\;<br />\nPLUS\, ROUND TRIP transportation (Amtrak departs from ARTIC in Anaheim @ 9:00AM and arrives in Solana Beach @ 10:45AM)
LOCATION:Anaheim to Solana Beach
UID:e.2108.1673
SEQUENCE:3
DTSTAMP:20260420T135829Z
URL:https://business.anaheimchamber.org/events/details/a-day-at-the-races-fundraiser-del-mar-07-26-2015-1673
END:VEVENT

END:VCALENDAR
