BEGIN:VCALENDAR
VERSION:2.0
PRODID:-//ChamberMaster//Event Calendar 2.0//EN
METHOD:PUBLISH
X-PUBLISHED-TTL:P3D
REFRESH-INTERVAL:P3D
CALSCALE:GREGORIAN
BEGIN:VEVENT
DTSTART:20161118T180000Z
DTEND:20161118T220000Z
X-MICROSOFT-CDO-ALLDAYEVENT:FALSE
SUMMARY:Access to Capital Workshop
DESCRIPTION:The Center will be partnering with CIELO to host an educational event at Golden West College: "Access to Capital - Small Business Workshop." Our sessions will include Managing Your Personal and Business Credit\, Cash Flow Analysis for Lending\, and Access to Capital. Participants will receive take-home bags with items from our sponsors\, pre-scheduled one-on-one consultations\, and the opportunity to earn a Grant for $2500 to help with business advancement. Lastly\, parking is FREE for registered guests! There are only 150 seats available so be sure to reserve your ticket quickly! \n\n\n\nREGISTER HERE
X-ALT-DESC;FMTTYPE=text/html:<span style="color: rgb(0\, 0\, 0)\; font-family: helvetica neue\,helvetica\,arial\,sans-serif\;"><strong>The Center</strong></span><span style="color: rgb(0\, 0\, 0)\; font-family: helvetica neue\,helvetica\,arial\,sans-serif\;">&nbsp\;will be partnering with&nbsp\;</span><strong>CIELO</strong><span style="color: rgb(0\, 0\, 0)\; font-family: helvetica neue\,helvetica\,arial\,sans-serif\;">&nbsp\;to host an educational event at Golden West College: &quot\;Access to Capital - Small Business Workshop.&quot\; Our sessions will include&nbsp\;</span><strong>Managing Your Personal and Business Credit\,&nbsp\;<strong>Cash Flow Analysis for Lending\,&nbsp\;</strong></strong><span style="color: rgb(0\, 0\, 0)\; font-family: helvetica neue\,helvetica\,arial\,sans-serif\;">and</span><strong><strong>&nbsp\;Access to Capital</strong>.</strong><span style="color: rgb(0\, 0\, 0)\; font-family: helvetica neue\,helvetica\,arial\,sans-serif\;">&nbsp\;Participants will receive take-home bags with items from our sponsors\, pre-scheduled one-on-one consultations\, and the opportunity to earn a&nbsp\;</span><strong>Grant</strong><span style="color: rgb(0\, 0\, 0)\; font-family: helvetica neue\,helvetica\,arial\,sans-serif\;">&nbsp\;for&nbsp\;</span><em>$2500</em><span style="color: rgb(0\, 0\, 0)\; font-family: helvetica neue\,helvetica\,arial\,sans-serif\;">&nbsp\;to help with business advancement.&nbsp\;</span><span style="color: rgb(0\, 0\, 0)\; font-family: helvetica neue\,helvetica\,arial\,sans-serif\;">Lastly\,&nbsp\;parking is<strong>&nbsp\;FREE</strong>&nbsp\;for registered guests!&nbsp\;</span><span style="color: rgb(0\, 0\, 0)\; font-family: helvetica neue\,helvetica\,arial\,sans-serif\;">There are only&nbsp\;</span><strong>150</strong><span style="color: rgb(0\, 0\, 0)\; font-family: helvetica neue\,helvetica\,arial\,sans-serif\;">&nbsp\;seats available so be sure to reserve your ticket quickly!&nbsp\;</span><br />\n<br />\n<a href="http://www.eventbrite.com/e/access-to-capital-small-business-workshop-orange-county-tickets-28344795045?aff=AnaheimChamber"><strong>REGISTER HERE</strong></a><br />\n&nbsp\;
LOCATION:Golden West College 15744 Goldenwest Street Huntington Beach\, CA 92647
UID:e.2108.2268
SEQUENCE:3
DTSTAMP:20260421T155601Z
URL:https://business.anaheimchamber.org/events/details/access-to-capital-workshop-2268
END:VEVENT

END:VCALENDAR
