BEGIN:VCALENDAR
VERSION:2.0
PRODID:-//ChamberMaster//Event Calendar 2.0//EN
METHOD:PUBLISH
X-PUBLISHED-TTL:P3D
REFRESH-INTERVAL:P3D
CALSCALE:GREGORIAN
BEGIN:VEVENT
DTSTART:20210213T180000Z
DTEND:20210213T193000Z
X-MICROSOFT-CDO-ALLDAYEVENT:FALSE
SUMMARY:Accounting for Non-Accountants
DESCRIPTION:Are you earning money and paying bills\, but don't know how to make sense of your numbers? Do you want to understand your finances so that you can feel confident and in charge\, making strategic decisions that will benefit your business and your future? Join us to make sense of your numbers and create a greater impact in your business and life
X-ALT-DESC;FMTTYPE=text/html:<span style="font-family: Lato\, Arial\, Helvetica\, sans-serif\; font-size: 16px\;">Are you earning money and paying bills\, but don&#39\;t know how to make sense of your numbers? Do you want to understand your finances so that you can feel confident and in charge\, making strategic decisions that will benefit your business and your future? Join us to make sense of your numbers and create a greater impact in your business and life</span>
LOCATION:Webinar
UID:e.2108.3879
SEQUENCE:3
DTSTAMP:20260423T072651Z
URL:https://business.anaheimchamber.org/events/details/accounting-for-non-accountants-3879
END:VEVENT

END:VCALENDAR
