BEGIN:VCALENDAR
VERSION:2.0
PRODID:-//ChamberMaster//Event Calendar 2.0//EN
METHOD:PUBLISH
X-PUBLISHED-TTL:P3D
REFRESH-INTERVAL:P3D
CALSCALE:GREGORIAN
BEGIN:VEVENT
DTSTART:20160924T010000Z
DTEND:20160924T050000Z
X-MICROSOFT-CDO-ALLDAYEVENT:FALSE
SUMMARY:Ace of Clubs Fundraising Event
DESCRIPTION:Ace of Clubs\, a Fundraising Event for The Boys & Girls Club of Anaheim\, features a hosted bar\, hors d'oeurvres\, music\, gaming and more!
X-ALT-DESC;FMTTYPE=text/html:Ace of Clubs\, a Fundraising Event for The Boys &amp\; Girls Club of Anaheim\, features a hosted bar\, hors d&#39\;oeurvres\, music\, gaming and more!
LOCATION:The Ranch Restaurant & Saloon 1025 E. Ball Rd. Anaheim\, CA 92805
UID:e.2108.2247
SEQUENCE:3
DTSTAMP:20260421T124709Z
URL:https://business.anaheimchamber.org/events/details/ace-of-clubs-fundraising-event-09-23-2016-2247
END:VEVENT

END:VCALENDAR
