BEGIN:VCALENDAR
VERSION:2.0
PRODID:-//ChamberMaster//Event Calendar 2.0//EN
METHOD:PUBLISH
X-PUBLISHED-TTL:P3D
REFRESH-INTERVAL:P3D
CALSCALE:GREGORIAN
BEGIN:VEVENT
DTSTART:20180421T020000Z
DTEND:20180421T050000Z
X-MICROSOFT-CDO-ALLDAYEVENT:FALSE
SUMMARY:Aeromyth - The Greatest Aerosmith Tribute Band
DESCRIPTION:Not only does AEROMYTH have an amazing Steven Tyler impersonator\, but all band members really look and sound like the Aerosmith band members they portray\, plus we have an amazing Joe Perry look alike! All members\, walk\, talk\, act\, perform\, and look like AEROSMITH.\n\nPerforming all of their greatest hits\, from classic songs such as "Walk This Way\," "Sweet Emotion\," and "Toys\," to more current hits like "Dude Looks Like A Lady\," "Jaded" and "Don't Wanna Miss A Thing."\n\nAEROMYTH consists of some very experienced musicians. All members are professionals with many years of studio and stage experience. This band is reliable in all aspects! You can count on AEROMYTH to bring you the very best of Aerosmith!
X-ALT-DESC;FMTTYPE=text/html:<span style="color:rgb(29\, 33\, 41)\; font-family:helvetica\,arial\,sans-serif\; font-size:14px">Not only does AEROMYTH have an amazing Steven Tyler impersonator\, but all band members really look and sound like the Aerosmith band members they portray\, plus we have an amazing Joe Perry look alike! All members\, walk\, talk\, act\, perform\, and look like AEROSMITH.</span><br />\n<span style="color:rgb(29\, 33\, 41)\; font-family:helvetica\,arial\,sans-serif\; font-size:14px">Performing all of their greatest hits\, from classic songs such as &quot\;Walk This Way\,&quot\; &quot\;Sweet Emotion\,&quot\; and &quot\;Toys\,&quot\; to more current hits like &quot\;Dude Looks Like A Lady\,&quot\; &quot\;Jaded&quot\; and &quot\;Don&#39\;t Wanna Miss A Thing.&quot\;</span><br />\n<span style="color:rgb(29\, 33\, 41)\; font-family:helvetica\,arial\,sans-serif\; font-size:14px">AEROMYTH consists of some very experienced musicians. All members are professionals with many years of studio and stage experience. This band is reliable in all aspects! You can count on AEROMYTH to bring you the very best of Aerosmith!</span>
LOCATION:Highway 39 Event Center 1563 S. State College Blvd Anaheim\, CA 92806
UID:e.2108.2466
SEQUENCE:3
DTSTAMP:20260422T193255Z
URL:https://business.anaheimchamber.org/events/details/aeromyth-the-greatest-aerosmith-tribute-band-2466
END:VEVENT

END:VCALENDAR
