BEGIN:VCALENDAR
VERSION:2.0
PRODID:-//ChamberMaster//Event Calendar 2.0//EN
METHOD:PUBLISH
X-PUBLISHED-TTL:P3D
REFRESH-INTERVAL:P3D
CALSCALE:GREGORIAN
BEGIN:VEVENT
DTSTART:20150915T000000Z
DTEND:20150915T023000Z
X-MICROSOFT-CDO-ALLDAYEVENT:FALSE
SUMMARY:AFTER GOLF MIXER - September 14\, 2015
DESCRIPTION:Join us for excellent business to business contacts with over 60 businesses in a fun atmosphere. Food and drink included in pricing. Come out and make new contacts at this great venue.
X-ALT-DESC;FMTTYPE=text/html:Join us for excellent business to business contacts with over 60 businesses in a fun atmosphere. Food and drink included in pricing. Come out and make new contacts at this great venue.
LOCATION:Anaheim Hills Golf Course 6501 E. Nohl Ranch Rd. Anaheim\, CA 92807
UID:e.2108.1684
SEQUENCE:3
DTSTAMP:20260420T165438Z
URL:https://business.anaheimchamber.org/events/details/after-golf-mixer-september-14-2015-09-14-2015-1684
END:VEVENT

END:VCALENDAR
