BEGIN:VCALENDAR
VERSION:2.0
PRODID:-//ChamberMaster//Event Calendar 2.0//EN
METHOD:PUBLISH
X-PUBLISHED-TTL:P3D
REFRESH-INTERVAL:P3D
CALSCALE:GREGORIAN
BEGIN:VEVENT
DTSTART:20161028T003000Z
DTEND:20161028T023000Z
X-MICROSOFT-CDO-ALLDAYEVENT:FALSE
SUMMARY:After Hours Mixer
DESCRIPTION:Bring your business cards and come join us for an evening Networking Event at Embassy Suites.
X-ALT-DESC;FMTTYPE=text/html:<div style="color: gray\;">Bring your business cards and come join us for an evening Networking Event at Embassy Suites.</div>\n
LOCATION:Embassy Suites North. 3100 E. Frontera St. Anaheim\, CA 92806
UID:e.2108.2254
SEQUENCE:3
DTSTAMP:20260421T141425Z
URL:https://business.anaheimchamber.org/events/details/after-hours-mixer-2254
END:VEVENT

END:VCALENDAR
