BEGIN:VCALENDAR
VERSION:2.0
PRODID:-//ChamberMaster//Event Calendar 2.0//EN
METHOD:PUBLISH
X-PUBLISHED-TTL:P3D
REFRESH-INTERVAL:P3D
CALSCALE:GREGORIAN
BEGIN:VEVENT
DTSTART:20230622T233000Z
DTEND:20230623T010000Z
X-MICROSOFT-CDO-ALLDAYEVENT:FALSE
SUMMARY:After-Hours Networking Mixer
DESCRIPTION:Join the Chamber staff and fellow business members for hors d'ouvres\, wine\, beer and soft drinks.
X-ALT-DESC;FMTTYPE=text/html:<p class="_04xlpA direction-ltr align-center para-style-body" style="color: rgb(255\, 255\, 255)\; font-family: &quot\;YADWjoIs6hY 0&quot\;\, _fb_\, auto\; --font-size:24.0005px\; --line-height:1.4\; line-height: 33px\;"><span style="font-family:arial\;"><strong><span style="color:#000000\;"><span class="WdYUQQ" style="font-weight: 700\;">Join the Chamber staff and fellow business members for&nbsp\;hors d&#39\;ouvres\, wine\, beer and soft drinks.&nbsp\;</span></span></strong></span></p>\n
LOCATION:Emerald Court 1731 W. Medical Center Drive
UID:e.2108.4979
SEQUENCE:3
DTSTAMP:20260419T141233Z
URL:https://business.anaheimchamber.org/events/details/after-hours-networking-mixer-4979
END:VEVENT

END:VCALENDAR
