BEGIN:VCALENDAR
VERSION:2.0
PRODID:-//ChamberMaster//Event Calendar 2.0//EN
METHOD:PUBLISH
X-PUBLISHED-TTL:P3D
REFRESH-INTERVAL:P3D
CALSCALE:GREGORIAN
BEGIN:VEVENT
DTSTART:20260310T143000Z
DTEND:20260310T160000Z
X-MICROSOFT-CDO-ALLDAYEVENT:FALSE
SUMMARY:Ambassador Meeting
DESCRIPTION:Monthly Ambassador Meeting\n\nA light breakfast will be served.
X-ALT-DESC;FMTTYPE=text/html:Monthly Ambassador Meeting<br />\nA light breakfast will be served.&nbsp\;
LOCATION:The Anaheim Hotel 1700 South Harbor Boulevard\, Anaheim\, CA 92802
UID:e.2108.4884
SEQUENCE:3
DTSTAMP:20260424T125714Z
URL:https://business.anaheimchamber.org/events/details/ambassador-meeting-03-10-2026-4884
END:VEVENT

END:VCALENDAR
