BEGIN:VCALENDAR
VERSION:2.0
PRODID:-//ChamberMaster//Event Calendar 2.0//EN
METHOD:PUBLISH
X-PUBLISHED-TTL:P3D
REFRESH-INTERVAL:P3D
CALSCALE:GREGORIAN
BEGIN:VEVENT
DTSTART:20210204T203000Z
DTEND:20210204T210000Z
X-MICROSOFT-CDO-ALLDAYEVENT:FALSE
SUMMARY:Anaheim Business Resources Q&A Series
DESCRIPTION:Weekly webinars starting Thursday\, February 4 from 12:30-1 p.m. to learn more about Anaheim business resources\, new ways to pivot your business and accessing capital.
X-ALT-DESC;FMTTYPE=text/html:Weekly webinars starting Thursday\, February 4 from 12:30-1 p.m. to learn more about Anaheim business resources\, new ways to pivot your business and accessing capital.
LOCATION:Webinar
UID:e.2108.3911
SEQUENCE:3
DTSTAMP:20260423T054626Z
URL:https://business.anaheimchamber.org/events/details/anaheim-business-resources-q-a-series-3911
END:VEVENT

END:VCALENDAR
