BEGIN:VCALENDAR
VERSION:2.0
PRODID:-//ChamberMaster//Event Calendar 2.0//EN
METHOD:PUBLISH
X-PUBLISHED-TTL:P3D
REFRESH-INTERVAL:P3D
CALSCALE:GREGORIAN
BEGIN:VEVENT
DTSTART:20200504T200000Z
DTEND:20200504T210000Z
X-MICROSOFT-CDO-ALLDAYEVENT:FALSE
SUMMARY:Anaheim Business Response & Recovery Zoom Call
DESCRIPTION:The coronavirus pandemic continues to affect the business community here in Anaheim. As the situation evolves\, we are here to bring you the latest updates and resources to help your business navigate through these challenging times. Please join us for the informative session.
X-ALT-DESC;FMTTYPE=text/html:The coronavirus pandemic continues to affect the business community here in Anaheim. As the situation evolves\, we are here to bring you the latest updates and resources to help your business navigate through these challenging times. Please join us for the informative session.
LOCATION:https://us02web.zoom.us/meeting/register/tZEpceiurDguE9H99PkkP5HcX-1DcWZWSCdd
UID:e.2108.3584
SEQUENCE:3
DTSTAMP:20260425T024958Z
URL:https://business.anaheimchamber.org/events/details/anaheim-business-response-recovery-zoom-call-05-04-2020-3584
END:VEVENT

END:VCALENDAR
