BEGIN:VCALENDAR
VERSION:2.0
PRODID:-//ChamberMaster//Event Calendar 2.0//EN
METHOD:PUBLISH
X-PUBLISHED-TTL:P3D
REFRESH-INTERVAL:P3D
CALSCALE:GREGORIAN
BEGIN:VEVENT
DTSTART:20140620T003000Z
DTEND:20140620T023000Z
X-MICROSOFT-CDO-ALLDAYEVENT:FALSE
SUMMARY:Anaheim Chamber After Hours Mixer
DESCRIPTION:Chamber mixers are typically held monthly on the third Thursday of each month from 5:30 to 7:30 p.m. Join Chamber members for excellent business to business networking in a relaxed\, fun atmosphere! Obtain new leads and enjoy great food\, drinks and entertainment from a new restaurant every month. Promote your business further by donating a door prize\, which is raffled off at the end of the night. Every attendee can drop a business card at the door and get a chance to win one of the great door prizes. All donors are recognized in This Week in Anaheim.
X-ALT-DESC;FMTTYPE=text/html:Chamber mixers are typically held monthly on the<strong> third Thursday of each month</strong> from <strong>5:30 to 7:30 p.m.</strong> Join Chamber members for excellent business to business networking in a relaxed\, fun atmosphere! Obtain new leads and enjoy great food\, drinks and entertainment from a new restaurant every month. Promote your business further by donating a door prize\, which is raffled off at the end of the night. Every attendee can drop a business card at the door and get a chance to win one of the great door prizes. All donors are recognized in This Week in Anaheim.
LOCATION:Located at Anaheim GardenWalk near Disneyland\, Bowlmor Lanes has been a local favorite since 2008! Bowlmor Anaheim features 41 glow-in-the-dark lanes\, a full-service bar\, billiard tables and lane-side food and drink service. The electrifying atmosphere and exemplary service are just a few reasons Bowlmor is called the "Best Place to Bowl in OC" by OC Weekly.
UID:e.2108.1460
SEQUENCE:3
DTSTAMP:20260419T173215Z
URL:https://business.anaheimchamber.org/events/details/anaheim-chamber-after-hours-mixer-06-19-2014-1460
END:VEVENT

END:VCALENDAR
