BEGIN:VCALENDAR
VERSION:2.0
PRODID:-//ChamberMaster//Event Calendar 2.0//EN
METHOD:PUBLISH
X-PUBLISHED-TTL:P3D
REFRESH-INTERVAL:P3D
CALSCALE:GREGORIAN
BEGIN:VEVENT
DTSTART:20170217T013000Z
DTEND:20170217T033000Z
X-MICROSOFT-CDO-ALLDAYEVENT:FALSE
SUMMARY:Anaheim Chamber After Hours Mixer - February 16th\, 2017
DESCRIPTION:Come join us at the Muzeo for 'Dressing Downton!' \n\n\n\nFor the only West Coast appearance\, Muzeo Museum is proud to host Dressing Downton: Changing Fashion for Changing Times. Dressing Downton highlights fashion from one of the most widely watched television dramas in the world\, Downton Abbey . Follow your favorite characters\, both upstairs and down\; walk through a costume chronicle of the period that showcases costumes and jewelry from the hit series.\n\n\n\nChamber mixers are typically held monthly on the third Thursday of each month from 5:30 to 7:30 p.m. Join Chamber members for excellent business to business networking in a relaxed\, fun atmosphere! Obtain new leads and enjoy great food\, drinks and entertainment from a new restaurant every month. Promote your business further by donating a door prize\, which is raffled off at the end of the night. Every attendee can drop a business card at the door and get a chance to win one of the great door prizes. All donors are recognized in This Week in Anaheim. \n\n\n\n****FREE Parking in the W Center Street Promenade Parking Garage****
X-ALT-DESC;FMTTYPE=text/html:Come join us at the Muzeo for &#39\;Dressing Downton!&#39\;&nbsp\;<br />\n<br />\n<span style="font-size: medium\;"><span style="font-family: calibri\;"><span style="background: white\;"><span style="font-size: 10.5pt\;"><span style="font-family: calibri\;">For the only&nbsp\;West Coast appearance\, Muzeo Museum is proud to host&nbsp\;</span></span></span><em style="line-height: inherit\; word-spacing: 0px\; box-sizing: border-box\; orphans: 2\; widows: 2\; font-stretch: inherit\; font-variant-ligatures: normal\; font-variant-caps: normal\; -webkit-text-stroke-width: 0px\; font-variant-numeric: inherit\;"><span style="padding: 0in\; border: 1pt windowtext\; border-image: none\;"><span style="font-family: calibri\,sans-serif\;">Dressing Downton: Changing Fashion for Changing Times.&nbsp\;</span></span></em><em><span style="padding: 0in\; border: 1pt windowtext\; border-image: none\;">Dressing Downton</span></em>&nbsp\;<span style="word-spacing: 0px\; float: none\; orphans: 2\; widows: 2\; font-variant-ligatures: normal\; font-variant-caps: normal\; -webkit-text-stroke-width: 0px\;">highlights fashion from one of the most widely watched television dramas in the world\,</span>&nbsp\;<em><span style="padding: 0in\; border: 1pt windowtext\; border-image: none\;"><span style="font-variant: inherit\; font-weight: inherit\; box-sizing: border-box\; font-stretch: inherit\;">Downton Abbey</span></span></em><em><span style="padding: 0in\; border: 1pt windowtext\; border-image: none\;"><span style="font-style: inherit\; font-variant: inherit\; font-weight: inherit\; box-sizing: border-box\; font-stretch: inherit\;">&reg\;</span></span></em><em><span style="padding: 0in\; border: 1pt windowtext\; border-image: none\;"><span style="font-family: calibri\,sans-serif\;">.</span></span></em>&nbsp\;<span style="word-spacing: 0px\; float: none\; orphans: 2\; widows: 2\; font-variant-ligatures: normal\; font-variant-caps: normal\; -webkit-text-stroke-width: 0px\;">Follow your favorite characters\, both upstairs and down\; walk through a costume chronicle of the period that showcases costumes and jewelry from the hit series.</span></span></span><br />\n<br />\nChamber mixers are typically held monthly on the<strong> third Thursday of each month</strong> from <strong>5:30 to 7:30 p.m.</strong> Join Chamber members for excellent business to business networking in a relaxed\, fun atmosphere! Obtain new leads and enjoy great food\, drinks and entertainment from a new restaurant every month. Promote your business further by donating a door prize\, which is raffled off at the end of the night. Every attendee can drop a business card at the door and get a chance to win one of the great door prizes. All donors are recognized in This Week in Anaheim.&nbsp\;<br />\n<br />\n****FREE Parking in the W Center Street Promenade Parking Garage****<br />\n&nbsp\;
LOCATION:Muzeo Anaheim 241 S Anaheim Blvd\, Anaheim\, CA 92805 (714) 956-8936
UID:e.2108.2259
SEQUENCE:3
DTSTAMP:20260421T204649Z
URL:https://business.anaheimchamber.org/events/details/anaheim-chamber-after-hours-mixer-february-16th-2017-2259
END:VEVENT

END:VCALENDAR
