BEGIN:VCALENDAR
VERSION:2.0
PRODID:-//ChamberMaster//Event Calendar 2.0//EN
METHOD:PUBLISH
X-PUBLISHED-TTL:P3D
REFRESH-INTERVAL:P3D
CALSCALE:GREGORIAN
BEGIN:VEVENT
DTSTART:20150522T003000Z
DTEND:20150522T023000Z
X-MICROSOFT-CDO-ALLDAYEVENT:FALSE
SUMMARY:Anaheim Chamber After Hours Mixer - May 21\, 2015
DESCRIPTION:Chamber mixers are typically held monthly on the third Thursday of each month from 5:30 to 7:30 p.m. Join Chamber members for excellent business to business networking in a relaxed\, fun atmosphere! Obtain new leads and enjoy great food\, drinks and entertainment from a new restaurant every month. Promote your business further by donating a door prize\, which is raffled off at the end of the night. Every attendee can drop a business card at the door and get a chance to win one of the great door prizes. All donors are recognized in This Week in Anaheim.
X-ALT-DESC;FMTTYPE=text/html:Chamber mixers are typically held monthly on the<strong> third Thursday of each month</strong> from <strong>5:30 to 7:30 p.m.</strong> Join Chamber members for excellent business to business networking in a relaxed\, fun atmosphere! Obtain new leads and enjoy great food\, drinks and entertainment from a new restaurant every month. Promote your business further by donating a door prize\, which is raffled off at the end of the night. Every attendee can drop a business card at the door and get a chance to win one of the great door prizes. All donors are recognized in This Week in Anaheim.
LOCATION:Palms Bar & Grill 22633 Oakcrest Cir\, Yorba Linda\, CA 92887 (714) 279-9999
UID:e.2108.1654
SEQUENCE:3
DTSTAMP:20260420T111755Z
URL:https://business.anaheimchamber.org/events/details/anaheim-chamber-after-hours-mixer-may-21-2015-05-21-2015-1654
END:VEVENT

END:VCALENDAR
