BEGIN:VCALENDAR
VERSION:2.0
PRODID:-//ChamberMaster//Event Calendar 2.0//EN
METHOD:PUBLISH
X-PUBLISHED-TTL:P3D
REFRESH-INTERVAL:P3D
CALSCALE:GREGORIAN
BEGIN:VEVENT
DTSTART:20210225T220000Z
DTEND:20210225T230000Z
X-MICROSOFT-CDO-ALLDAYEVENT:FALSE
SUMMARY:Anaheim Chamber Helps You Understand PPP Round 2: Free Webinar with the Experts
DESCRIPTION:
X-ALT-DESC;FMTTYPE=text/html:
LOCATION:
UID:e.2108.3922
SEQUENCE:3
DTSTAMP:20260423T054747Z
URL:https://business.anaheimchamber.org/events/details/anaheim-chamber-helps-you-understand-ppp-round-2-free-webinar-with-the-experts-3922
END:VEVENT

END:VCALENDAR
