BEGIN:VCALENDAR
VERSION:2.0
PRODID:-//ChamberMaster//Event Calendar 2.0//EN
METHOD:PUBLISH
X-PUBLISHED-TTL:P3D
REFRESH-INTERVAL:P3D
CALSCALE:GREGORIAN
BEGIN:VEVENT
DTSTART:20141112T193000Z
DTEND:20141112T210000Z
X-MICROSOFT-CDO-ALLDAYEVENT:FALSE
SUMMARY:Anaheim Chamber Leads Lunch
DESCRIPTION:This program is for those who are serious about networking and generating leads. Join us on the second and fourth Wednesday of each month for this great networking opportunity. Bring lots of business cards and prepare a good 30 second introduction. Reservations are required as space is limited. \n\n\n\nPromote your business further by donating a door prize\, which is raffled off at the end of the lunch. Every attendee can drop a business card at the door and get a chance to win one of the great door prizes. All donors are recognized publicly at Leads Lunch and in This Week in Anaheim.
X-ALT-DESC;FMTTYPE=text/html:<span style="color: rgb(0\, 0\, 0)\; font-family: 'PT Sans Narrow'\, sans-serif\; font-size: 17px\; font-style: normal\; font-variant: normal\; font-weight: normal\; letter-spacing: normal\; line-height: 24px\; orphans: auto\; text-align: start\; text-indent: 0px\; text-transform: none\; white-space: normal\; widows: auto\; word-spacing: 0px\; -webkit-text-stroke-width: 0px\; background-color: rgba(255\, 255\, 255\, 0.6)\; display: inline !important\; float: none\;">This program is for those who are serious about networking and generating leads. Join us on the&nbsp\;second and fourth Wednesday&nbsp\;of each month for this great networking opportunity. Bring lots of business cards and prepare a good 30 second introduction. Reservations are required as space is limited.&nbsp\;</span><br style="color: rgb(0\, 0\, 0)\; font-family: 'PT Sans Narrow'\, sans-serif\; font-size: 17px\; font-style: normal\; font-variant: normal\; font-weight: normal\; letter-spacing: normal\; line-height: 24px\; orphans: auto\; text-align: start\; text-indent: 0px\; text-transform: none\; white-space: normal\; widows: auto\; word-spacing: 0px\; -webkit-text-stroke-width: 0px\; background-color: rgba(255\, 255\, 255\, 0.6)\;" />\n<br style="color: rgb(0\, 0\, 0)\; font-family: 'PT Sans Narrow'\, sans-serif\; font-size: 17px\; font-style: normal\; font-variant: normal\; font-weight: normal\; letter-spacing: normal\; line-height: 24px\; orphans: auto\; text-align: start\; text-indent: 0px\; text-transform: none\; white-space: normal\; widows: auto\; word-spacing: 0px\; -webkit-text-stroke-width: 0px\; background-color: rgba(255\, 255\, 255\, 0.6)\;" />\n<span style="color: rgb(0\, 0\, 0)\; font-family: 'PT Sans Narrow'\, sans-serif\; font-size: 17px\; font-style: normal\; font-variant: normal\; font-weight: normal\; letter-spacing: normal\; line-height: 24px\; orphans: auto\; text-align: start\; text-indent: 0px\; text-transform: none\; white-space: normal\; widows: auto\; word-spacing: 0px\; -webkit-text-stroke-width: 0px\; background-color: rgba(255\, 255\, 255\, 0.6)\; display: inline !important\; float: none\;">Promote your business further by donating a door prize\, which is raffled off at the end of the lunch. Every attendee can drop a business card at the door and get a chance to win one of the great door prizes. All donors are recognized publicly at Leads Lunch and in&nbsp\;</span><a href="http://www.anaheimchamber.org/thisweek.asp" style="text-decoration: none\; color: rgb(81\, 0\, 23)\; font-family: 'PT Sans Narrow'\, sans-serif\; font-size: 17px\; font-style: normal\; font-variant: normal\; font-weight: normal\; letter-spacing: normal\; line-height: 24px\; orphans: auto\; text-align: start\; text-indent: 0px\; text-transform: none\; white-space: normal\; widows: auto\; word-spacing: 0px\; -webkit-text-stroke-width: 0px\; background-color: rgba(255\, 255\, 255\, 0.6)\;">This Week in Anaheim</a><span style="color: rgb(0\, 0\, 0)\; font-family: 'PT Sans Narrow'\, sans-serif\; font-size: 17px\; font-style: normal\; font-variant: normal\; font-weight: normal\; letter-spacing: normal\; line-height: 24px\; orphans: auto\; text-align: start\; text-indent: 0px\; text-transform: none\; white-space: normal\; widows: auto\; word-spacing: 0px\; -webkit-text-stroke-width: 0px\; background-color: rgba(255\, 255\, 255\, 0.6)\; display: inline !important\; float: none\;">. </span>
LOCATION:Mc Cormick & Schmick's Grille 321 W. Katella Ave.\, #109 Anaheim\, California 92802 Telephone: (714) 535-9000
UID:e.2108.1471
SEQUENCE:3
DTSTAMP:20260420T011940Z
URL:https://business.anaheimchamber.org/events/details/anaheim-chamber-leads-lunch-11-12-2014-1471
END:VEVENT

END:VCALENDAR
