BEGIN:VCALENDAR
VERSION:2.0
PRODID:-//ChamberMaster//Event Calendar 2.0//EN
METHOD:PUBLISH
X-PUBLISHED-TTL:P3D
REFRESH-INTERVAL:P3D
CALSCALE:GREGORIAN
BEGIN:VEVENT
DTSTART:20160427T183000Z
DTEND:20160427T200000Z
X-MICROSOFT-CDO-ALLDAYEVENT:FALSE
SUMMARY:Anaheim Chamber Leads Lunch- April 27th
DESCRIPTION:This program is for those who are serious about networking and generating leads. Join us on the second and fourth Wednesday of each month for this great networking opportunity. Bring lots of business cards and prepare a good 30 second introduction. Reservations are required as space is limited.\n\n \n\nPromote your business further by donating a door prize\, which is raffled off at the end of the lunch. Every attendee can drop a business card at the door and get a chance to win one of the great door prizes. All donors are recognized publicly at Leads Lunch and in This Week in Anaheim.
X-ALT-DESC;FMTTYPE=text/html:<span style="line-height: 20.8px\;">This program is for those who are serious about networking and generating leads. Join us on the second and fourth Wednesday of each month for this great networking opportunity. Bring lots of business cards and prepare a good 30 second introduction. Reservations are required as space is limited.</span><br style="line-height: 20.8px\;" />\n<span style="line-height: 20.8px\;">&nbsp\;</span><br style="line-height: 20.8px\;" />\n<span style="line-height: 20.8px\;">Promote your business further by donating a door prize\, which is raffled off at the end of the lunch. Every attendee can drop a business card at the door and get a chance to win one of the great door prizes. All donors are recognized publicly at Leads Lunch and in This Week in Anaheim.</span>
LOCATION:ESPN Zone - Downtown Disney 1545 Disneyland Dr. Anaheim\, CA 92802
UID:e.2108.1724
SEQUENCE:3
DTSTAMP:20260421T044810Z
URL:https://business.anaheimchamber.org/events/details/anaheim-chamber-leads-lunch-april-27th-04-27-2016-1724
END:VEVENT

END:VCALENDAR
