BEGIN:VCALENDAR
VERSION:2.0
PRODID:-//ChamberMaster//Event Calendar 2.0//EN
METHOD:PUBLISH
X-PUBLISHED-TTL:P3D
REFRESH-INTERVAL:P3D
CALSCALE:GREGORIAN
BEGIN:VEVENT
DTSTART:20181212T193000Z
DTEND:20181212T210000Z
X-MICROSOFT-CDO-ALLDAYEVENT:FALSE
SUMMARY:Anaheim Chamber Leads Lunch - December 12\, 2018
DESCRIPTION:BRING AN UNWRAPPED TOY\, VALUED AT $20 OR MORE TO BENEFIT\n\nCOPS 4 KIDS!\n\n\n\nThis program is for those who are serious about networking and generating leads. Join us on the second and fourth Wednesday of each month for this great networking opportunity. Bring lots of business cards and prepare a good 30 second introduction. Reservations are required as space is limited.\n\n\n\nPromote your business further by donating a door prize\, which is raffled off at the end of the lunch. Every attendee can drop a business card at the door and get a chance to win one of the great door prizes. All donors are recognized publicly at Leads Lunch and in This Week in Anaheim.
X-ALT-DESC;FMTTYPE=text/html:<span style="line-height: 20.8px\;"><strong>BRING AN UNWRAPPED TOY\, VALUED AT $20 OR MORE TO BENEFIT<br />\nCOPS 4 KIDS!</strong><br />\n<br />\nThis program is for those who are serious about networking and generating leads. Join us on the second and fourth Wednesday of each month for this great networking opportunity. Bring lots of business cards and prepare a good 30 second introduction. Reservations are required as space is limited.</span><br />\n<br style="line-height: 20.8px\;" />\n<span style="line-height: 20.8px\;">Promote your business further by donating a door prize\, which is raffled off at the end of the lunch. Every attendee can drop a business card at the door and get a chance to win one of the great door prizes. All donors are recognized publicly at Leads Lunch and in This Week in Anaheim.</span>
LOCATION:Highway 39 Event Center 1563 S. St. College Blvd. Anaheim\, CA 92806
UID:e.2108.2492
SEQUENCE:3
DTSTAMP:20260419T154846Z
URL:https://business.anaheimchamber.org/events/details/anaheim-chamber-leads-lunch-december-12-2018-2492
END:VEVENT

END:VCALENDAR
