BEGIN:VCALENDAR
VERSION:2.0
PRODID:-//ChamberMaster//Event Calendar 2.0//EN
METHOD:PUBLISH
X-PUBLISHED-TTL:P3D
REFRESH-INTERVAL:P3D
CALSCALE:GREGORIAN
BEGIN:VEVENT
DTSTART:20160224T193000Z
DTEND:20160224T210000Z
X-MICROSOFT-CDO-ALLDAYEVENT:FALSE
SUMMARY:Anaheim Chamber Leads Lunch - February 24\, 2016
DESCRIPTION:This program is for those who are serious about networking and generating leads. Join us on the second and fourth Wednesday of each month for this great networking opportunity. Bring lots of business cards and prepare a good 30 second introduction. Reservations are required as space is limited.\n\n \n\nPromote your business further by donating a door prize\, which is raffled off at the end of the lunch. Every attendee can drop a business card at the door and get a chance to win one of the great door prizes. All donors are recognized publicly at Leads Lunch and in This Week in Anaheim.
X-ALT-DESC;FMTTYPE=text/html:This program is for those who are serious about networking and generating leads. Join us on the second and fourth Wednesday of each month for this great networking opportunity. Bring lots of business cards and prepare a good 30 second introduction. Reservations are required as space is limited.<br />\n&nbsp\;<br />\nPromote your business further by donating a door prize\, which is raffled off at the end of the lunch. Every attendee can drop a business card at the door and get a chance to win one of the great door prizes. All donors are recognized publicly at Leads Lunch and in This Week in Anaheim.
LOCATION:Anaheim Regional Medical Center 1211 W. La Palma Ave. Anaheim\, CA 92801 (Medical Office Building Basement Classroom C&D)
UID:e.2108.1715
SEQUENCE:3
DTSTAMP:20260421T011335Z
URL:https://business.anaheimchamber.org/events/details/anaheim-chamber-leads-lunch-february-24-2016-02-24-2016-1715
END:VEVENT

END:VCALENDAR
