BEGIN:VCALENDAR
VERSION:2.0
PRODID:-//ChamberMaster//Event Calendar 2.0//EN
METHOD:PUBLISH
X-PUBLISHED-TTL:P3D
REFRESH-INTERVAL:P3D
CALSCALE:GREGORIAN
BEGIN:VEVENT
DTSTART:20180711T183000Z
DTEND:20180711T200000Z
X-MICROSOFT-CDO-ALLDAYEVENT:FALSE
SUMMARY:Anaheim Chamber Leads Lunch - July 11\, 2018
DESCRIPTION:Presentation Overview:\n\n \n\nJoin the City of Anaheim's Economic Development Team as they share business resources and new technologies to facilitate the prosperity of over 16\,000 businesses located throughout Anaheim's thriving business sectors. From locating available commercial space to marketing of goods and services and educational business seminars\, the recently-formed Economic Development Team offers various resources for current or prospective Anaheim businesses. Join us for networking\, new tools\, and learn why Anaheim continues to be  Where Innovation is Fostered and Business is Empowered.
X-ALT-DESC;FMTTYPE=text/html:<strong><u><span style="font-family:arial\,sans-serif\;"><span style="font-size:12.0pt\;">Presentation Overview:</span></span></u></strong><br />\n&nbsp\;<br />\n<span style="font-family:arial\,sans-serif\;"><span style="font-size:12.0pt\;">Join the City of Anaheim&rsquo\;s Economic Development Team as they share business resources and new technologies to facilitate the prosperity of over 16\,000 businesses located throughout Anaheim&rsquo\;s thriving business sectors. From locating available commercial space to marketing of goods and services and educational business seminars\, the recently-formed Economic Development Team offers various resources for current or prospective Anaheim businesses. Join us for networking\, new tools\, and learn why Anaheim continues to be &nbsp\;<em>Where Innovation is Fostered and Business is Empowered.</em></span></span>
LOCATION:Shakey's Pizza Parlor 1027 S Harbor Blvd. Anaheim\, CA 92805
UID:e.2108.2477
SEQUENCE:3
DTSTAMP:20260422T235059Z
URL:https://business.anaheimchamber.org/events/details/anaheim-chamber-leads-lunch-july-11-2018-2477
END:VEVENT

END:VCALENDAR
