BEGIN:VCALENDAR
VERSION:2.0
PRODID:-//ChamberMaster//Event Calendar 2.0//EN
METHOD:PUBLISH
X-PUBLISHED-TTL:P3D
REFRESH-INTERVAL:P3D
CALSCALE:GREGORIAN
BEGIN:VEVENT
DTSTART:20150722T183000Z
DTEND:20150722T200000Z
X-MICROSOFT-CDO-ALLDAYEVENT:FALSE
SUMMARY:Anaheim Chamber Leads Lunch- July 22\, 2015
DESCRIPTION:This program is for those who are serious about networking and generating leads. Join us on the second and fourth Wednesday of each month for this great networking opportunity. Bring lots of business cards and prepare a good 30 second introduction. Reservations are required as space is limited.\n\n\n\n\n\nCatered by True Seasons Organic Kitchen\n\n \n\nPromote your business further by donating a door prize\, which is raffled off at the end of the lunch. Every attendee can drop a business card at the door and get a chance to win one of the great door prizes. All donors are recognized publicly at Leads Lunch and in This Week in Anaheim.
X-ALT-DESC;FMTTYPE=text/html:This program is for those who are serious about networking and generating leads. Join us on the second and fourth Wednesday of each month for this great networking opportunity. Bring lots of business cards and prepare a good 30 second introduction. Reservations are required as space is limited.<br />\n<br />\n<br />\nCatered by True Seasons Organic Kitchen<br />\n&nbsp\;<br />\nPromote your business further by donating a door prize\, which is raffled off at the end of the lunch. Every attendee can drop a business card at the door and get a chance to win one of the great door prizes. All donors are recognized publicly at Leads Lunch and in This Week in Anaheim.
LOCATION:Anaheim Chamber of Commerce 2400 E Katella Ave.\, Suite 725 Anaheim\, CA 92806 www.anaheimchamber.org 714-758-0222
UID:e.2108.1663
SEQUENCE:3
DTSTAMP:20260420T135747Z
URL:https://business.anaheimchamber.org/events/details/anaheim-chamber-leads-lunch-july-22-2015-07-22-2015-1663
END:VEVENT

END:VCALENDAR
