BEGIN:VCALENDAR
VERSION:2.0
PRODID:-//ChamberMaster//Event Calendar 2.0//EN
METHOD:PUBLISH
X-PUBLISHED-TTL:P3D
REFRESH-INTERVAL:P3D
CALSCALE:GREGORIAN
BEGIN:VEVENT
DTSTART:20251204T010000Z
DTEND:20251204T030000Z
X-MICROSOFT-CDO-ALLDAYEVENT:FALSE
SUMMARY:Anaheim Chamber's Holiday Mixer & Toy Drive
DESCRIPTION:Join fellow Anaheim Chamber members\, partners\, and friends for a cheerful evening of networking\, music\, and holiday spirit at The Muzeo Museum & Cultural Center.\n\nSpread joy while you mingle: bring a new\, unwrapped toy to receive raffle tickets and help support Anaheim Fire's Spark of Love toy drive.\n\n\n\nWe are also seeking raffle items - gift cards\, baskets\, tickets -- for this event! You are welcome to bring the item with you to add to the fun!\n\nEvent Highlights\n\n\n	\n	Chamber networking with holiday flair\n	\n	\n	Festive bites & good company (cash/host details as applicable)\n	\n	\n	Raffle prizes one ticket per toy donated\n	\n\n\nToys Benefit: Anaheim Fire's Spark of Love\n\nAttire: Festive business / business casual\n\n\n\nThis event is brought to you by our generous event sponsors:\n\nTri Counties Bank\n\nKaraki Business Services\n\nCredit Union of Southern California\n\nLumi Event Services
X-ALT-DESC;FMTTYPE=text/html:<p data-end="309" data-start="140">Join fellow Anaheim Chamber members\, partners\, and friends for a cheerful evening of networking\, music\, and holiday spirit at The Muzeo Museum &amp\; Cultural Center.</p>\n\n<p data-end="358" data-start="311">Spread joy while you mingle: <strong data-end="419" data-start="389">bring a new\, unwrapped toy</strong> to receive <strong data-end="449" data-start="431">raffle tickets</strong> and help support <strong data-end="499" data-start="467">Anaheim Fire&rsquo\;s Spark of Love</strong> toy drive.<br />\n<br />\nWe are also seeking raffle items - gift cards\, baskets\, tickets -- for this event! You are welcome to bring the item with you&nbsp\;to add to the fun!</p>\n\n<p data-end="532" data-start="512"><strong data-end="532" data-start="512">Event Highlights</strong></p>\n\n<ul data-end="686" data-start="533">\n	<li data-end="574" data-start="533">\n	<p data-end="574" data-start="535">Chamber networking with holiday flair</p>\n	</li>\n	<li data-end="641" data-start="575">\n	<p data-end="641" data-start="577">Festive bites &amp\; good company (cash/host details as applicable)</p>\n	</li>\n	<li data-end="686" data-start="642">\n	<p data-end="686" data-start="644">Raffle prizes&mdash\;one ticket per toy donated</p>\n	</li>\n</ul>\n\n<p data-end="787" data-start="688"><strong data-end="705" data-start="688">Toys Benefit:</strong> Anaheim Fire&rsquo\;s <strong data-end="738" data-start="721">Spark of Love</strong><br data-end="741" data-start="738" />\n<strong data-end="752" data-start="741">Attire:</strong> Festive business / business casual<br />\n<br />\nThis event is brought to you by our generous event sponsors:<br />\n<strong>Tri Counties Bank<br />\nKaraki Business Services<br />\nCredit Union of Southern California<br />\nLumi Event Services</strong></p>\n
LOCATION:Muzeo Museum & Cultural Center Courtyard 241 S Anaheim Blvd Anaheim\, 92805 *This is an outdoor event Parking Information Parking validation is available for Car Parks 3 and 5. Important: Please keep your original parking ticket\, as you will need it to exit the parking structure. Parking Structure Addresses: Car Park 3 143 W Center Street Promenade\, Anaheim\, 92805 (behind Lazeez Eats) For parking validation\, you must park above Level 2 (enter the gated area and get a ticket in order to be validated in this lot) Lower Level hosts EV spots and these spots are not validated. Car Park 5 290 S Lemon Street\, Anaheim 92805 (behind Nick's Bagels)
UID:e.2108.5849
SEQUENCE:3
DTSTAMP:20260424T082246Z
URL:https://business.anaheimchamber.org/events/details/anaheim-chamber-s-holiday-mixer-toy-drive-5849
END:VEVENT

END:VCALENDAR
