BEGIN:VCALENDAR
VERSION:2.0
PRODID:-//ChamberMaster//Event Calendar 2.0//EN
METHOD:PUBLISH
X-PUBLISHED-TTL:P3D
REFRESH-INTERVAL:P3D
CALSCALE:GREGORIAN
BEGIN:VEVENT
DTSTART;VALUE=DATE:20160704
DTEND;VALUE=DATE:20160705
TRANSP:TRANSPARENT
X-MICROSOFT-CDO-ALLDAYEVENT:TRUE
SUMMARY:Anaheim Hills Community Council- 2016 Fourth of July Celebration
DESCRIPTION:
X-ALT-DESC;FMTTYPE=text/html:<div class="row grid-row" style="background: rgb(255\, 255\, 255)\; margin: 0px\; padding: 0px\; outline: 0px\; border: 0px currentColor\; width: 814.2px\; line-height: 27px\; font-family: Nobile\, Corbel\, Arial\, sans-serif\; font-size: 18px\; vertical-align: baseline\;">\n<section class="pl-section span12 offset0    pl-bg-cover section-highlight" data-clone="u4bnoti" data-object="PageLinesHighlight" data-sid="highlight" id="highlightu4bnoti" style="background-position: 50% 50%\; width: 814.2px\; text-align: center\; clear: both\; margin-bottom: 0px\; margin-left: 0px\; float: left\; background-size: cover\; -webkit-background-size: cover\;">\n<div class="pl-section-pad fix" style="margin: 0px\; padding: 18px 0px\; outline: 0px\; border: 0px currentColor\; vertical-align: baseline\;">\n<div class="highlight-area" style="margin: 0px auto\; padding: 10px 0px\; outline: 0px\; border: 0px currentColor\; vertical-align: baseline\;">\n<div class="highlight-subhead" data-sync="_highlight_subhead" style="margin: 5px 0px 0px\; padding: 0px\; outline: 0px\; border: 0px currentColor\; vertical-align: baseline\; opacity: 0.75\;">&nbsp\;</div>\n</div>\n</div>\n</section>\n</div>\n\n<div class="row grid-row" style="background: rgb(255\, 255\, 255)\; margin: 0px\; padding: 0px\; outline: 0px\; border: 0px currentColor\; width: 814.2px\; line-height: 27px\; font-family: Nobile\, Corbel\, Arial\, sans-serif\; font-size: 18px\; vertical-align: baseline\;">\n<section class="pl-section span12 offset0    pl-bg-cover section-ibox" data-clone="uwyojkx" data-object="pliBox" data-sid="ibox" id="iboxuwyojkx" style="background-position: 50% 50%\; width: 814.2px\; clear: both\; margin-bottom: 0px\; margin-left: 0px\; float: left\; background-size: cover\; -webkit-background-size: cover\;">\n<div class="pl-section-pad fix" style="margin: 0px\; padding: 15px 0px\; outline: 0px\; border: 0px currentColor\; vertical-align: baseline\;">\n<div class="ibox-wrapper pl-animation-group" style="margin: 0px\; padding: 0px\; outline: 0px\; border: 0px currentColor\; vertical-align: baseline\;">\n<div class="row fix" style="margin: 0px\; padding: 0px\; outline: 0px\; border: 0px currentColor\; width: 814.2px\; vertical-align: baseline\;">\n<div class="span4 ibox top-aligned  wrap-image fix" style="margin: 0px 0px 0px 17.31px\; padding: 0px\; outline: 0px\; border: 0px currentColor\; width: 259.84px\; text-align: center\; vertical-align: baseline\; float: left\;">\n<div class="ibox-text bd" style="margin: 0px\; padding: 0px\; outline: 0px\; border: 0px currentColor\; vertical-align: baseline\;">\n<h4 data-sync="ibox_array_item2_title" style="margin: 0.4em 0px 5px\; padding: 0px\; outline: 0px\; border: 0px currentColor\; line-height: 1.4em\; font-family: Cabin\, arial\, sans-serif\; font-size: 22.4px\; vertical-align: baseline\; text-rendering: optimizeLegibility\;">&nbsp\;</h4>\n</div>\n</div>\n</div>\n</div>\n</div>\n</section>\n</div>\n
LOCATION:
UID:e.2108.1860
SEQUENCE:3
DTSTAMP:20260421T093119Z
URL:https://business.anaheimchamber.org/events/details/anaheim-hills-community-council-2016-fourth-of-july-celebration-07-04-2016-1860
END:VEVENT

END:VCALENDAR
