BEGIN:VCALENDAR
VERSION:2.0
PRODID:-//ChamberMaster//Event Calendar 2.0//EN
METHOD:PUBLISH
X-PUBLISHED-TTL:P3D
REFRESH-INTERVAL:P3D
CALSCALE:GREGORIAN
BEGIN:VEVENT
DTSTART;VALUE=DATE:20150704
DTEND;VALUE=DATE:20150705
TRANSP:TRANSPARENT
X-MICROSOFT-CDO-ALLDAYEVENT:TRUE
SUMMARY:Anaheim Hills Community Council- Fourth of July Celebration
DESCRIPTION:July 4th\, 2015 at Canyon High School & Peralta Park in Anaheim Hills\, California.\n\n\n\n\n\n\n\n\n\n\n\n \n\n\nFirecracker 5K/10K\n\n7:00am - 10:00am\n\n\nOur Annual Firecracker 5K/10K event brings thousands from Anaheim Hills and surrounding communities. Grab your running shoes\, your patriotic spirit\, and bring the whole family. Start this year's 4th of July the right way!\n\n\n\n\n\n \n\n\nPancake Breakfast\n\n7:30am - 9:30am\n\n\nAfter a good run/walk\, we know you're going to be craving a good delicious breakfast. This year\, the Canyon High School Football Team is partnering with the AHCC and Rotary to bring you our annual Pancake Breakfast. See you there!\n\n\n\n\n\n \n\n\nYankee Doodle Dog Show\n\n9:30am\n\n\n Yankee Doodle came to town\, with his little puppy!Our annual dog show is sure to be a hit! Dress up your favorite K-9 friend and you may win a prize! It's sure to be the best "dog-gone" show this 4th of July!\n\n\n\n\n\n\n\n\n\n\n\n\n\n\n\n \n\n\nPatriotic Parade\n\n1:00pm\n\n\nIf you've never been to our Annual Patriotic Parade\, you've been missing out on some serious community pride! This year's theme is "It's A Grand Old Flag" and is sure to be the biggest in our history of the event. Contact us if you'd like to be a part of it!\n\n\n\n\n\n \n\n\nFun in the Park!\n\n3:00pm - 8:45pm\n\n\nOutdoor Fun? Live Music on a Stage? Delicious food and drinks? Community Vendors? CHECK! Join us at Peralta Park following the Patriotic Parade for some live music and food as we countdown to the firework show.\n\n\n\n\n\n \n\n\nFirework Show Spectacular\n\n9:00pm\n\n\nPut on by one of the best firework companies in the nation\, the big Finale to the 4th of July Celebration is nothing short of spectacular. Accompanied by patriotic tunes\, bring the family as we light up the night!
X-ALT-DESC;FMTTYPE=text/html:<div class="row grid-row" style="background: rgb(255\, 255\, 255)\; margin: 0px\; padding: 0px\; outline: 0px\; border: 0px currentColor\; width: 814.2px\; line-height: 27px\; font-family: Nobile\, Corbel\, Arial\, sans-serif\; font-size: 18px\; vertical-align: baseline\;">\n<section class="pl-section span12 offset0    pl-bg-cover section-highlight" data-clone="u4bnoti" data-object="PageLinesHighlight" data-sid="highlight" id="highlightu4bnoti" style="background-position: 50% 50%\; width: 814.2px\; text-align: center\; clear: both\; margin-bottom: 0px\; margin-left: 0px\; float: left\; background-size: cover\; -webkit-background-size: cover\;">\n<div class="pl-section-pad fix" style="margin: 0px\; padding: 18px 0px\; outline: 0px\; border: 0px currentColor\; vertical-align: baseline\;">\n<div class="highlight-area" style="margin: 0px auto\; padding: 10px 0px\; outline: 0px\; border: 0px currentColor\; vertical-align: baseline\;">\n<div class="highlight-subhead" data-sync="_highlight_subhead" style="margin: 5px 0px 0px\; padding: 0px\; outline: 0px\; border: 0px currentColor\; vertical-align: baseline\; opacity: 0.75\;">July 4th\, 2015 at Canyon High School &amp\; Peralta Park in Anaheim Hills\, California.</div>\n</div>\n</div>\n</section>\n</div>\n\n<div class="row grid-row" style="background: rgb(255\, 255\, 255)\; margin: 0px\; padding: 0px\; outline: 0px\; border: 0px currentColor\; width: 814.2px\; line-height: 27px\; font-family: Nobile\, Corbel\, Arial\, sans-serif\; font-size: 18px\; vertical-align: baseline\;">\n<section class="pl-section span12 offset0    pl-bg-cover section-ibox" data-clone="ukulj7a" data-object="pliBox" data-sid="ibox" id="iboxukulj7a" style="background-position: 50% 50%\; width: 814.2px\; clear: both\; margin-bottom: 0px\; margin-left: 0px\; float: left\; background-size: cover\; -webkit-background-size: cover\;">\n<div class="pl-section-pad fix" style="margin: 0px\; padding: 15px 0px\; outline: 0px\; border: 0px currentColor\; vertical-align: baseline\;">\n<div class="ibox-wrapper pl-animation-group" style="margin: 0px\; padding: 0px\; outline: 0px\; border: 0px currentColor\; vertical-align: baseline\;">\n<div class="row fix" style="margin: 0px\; padding: 0px\; outline: 0px\; border: 0px currentColor\; width: 814.2px\; vertical-align: baseline\;">\n<div class="span4 ibox top-aligned  wrap-image fix" style="margin: 0px\; padding: 0px\; outline: 0px\; border: 0px currentColor\; width: 259.84px\; text-align: center\; clear: both\; vertical-align: baseline\; float: left\;">\n<div class="ibox-media img" style="margin: 0px auto\; padding: 0px\; outline: 0px\; border: 0px currentColor\; vertical-align: baseline\; max-width: 70%\;">&nbsp\;</div>\n\n<div class="ibox-text bd" style="margin: 0px\; padding: 0px\; outline: 0px\; border: 0px currentColor\; vertical-align: baseline\;">\n<h4 data-sync="ibox_array_item1_title" style="margin: 0.4em 0px 5px\; padding: 0px\; outline: 0px\; border: 0px currentColor\; line-height: 1.4em\; font-family: Cabin\, arial\, sans-serif\; font-size: 22.4px\; vertical-align: baseline\; text-rendering: optimizeLegibility\;">Firecracker 5K/10K<br />\n7:00am - 10:00am</h4>\n\n<div class="ibox-desc" style="margin: 0px auto\; padding: 0px\; outline: 0px\; border: 0px currentColor\; vertical-align: baseline\; max-width: 300px\;">\n<div data-sync="ibox_array_item1_text" style="margin: 0px\; padding: 0px\; outline: 0px\; border: 0px currentColor\; vertical-align: baseline\;">Our Annual Firecracker 5K/10K event brings thousands from Anaheim Hills and surrounding communities. Grab your running shoes\, your patriotic spirit\, and bring the whole family. Start this year&#39\;s 4th of July the right way!</div>\n</div>\n</div>\n</div>\n\n<div class="span4 ibox top-aligned  wrap-image fix" style="margin: 0px 0px 0px 17.31px\; padding: 0px\; outline: 0px\; border: 0px currentColor\; width: 259.84px\; text-align: center\; vertical-align: baseline\; float: left\;">\n<div class="ibox-media img" style="margin: 0px auto\; padding: 0px\; outline: 0px\; border: 0px currentColor\; vertical-align: baseline\; max-width: 70%\;">&nbsp\;</div>\n\n<div class="ibox-text bd" style="margin: 0px\; padding: 0px\; outline: 0px\; border: 0px currentColor\; vertical-align: baseline\;">\n<h4 data-sync="ibox_array_item2_title" style="margin: 0.4em 0px 5px\; padding: 0px\; outline: 0px\; border: 0px currentColor\; line-height: 1.4em\; font-family: Cabin\, arial\, sans-serif\; font-size: 22.4px\; vertical-align: baseline\; text-rendering: optimizeLegibility\;">Pancake Breakfast<br />\n7:30am - 9:30am</h4>\n\n<div class="ibox-desc" style="margin: 0px auto\; padding: 0px\; outline: 0px\; border: 0px currentColor\; vertical-align: baseline\; max-width: 300px\;">\n<div data-sync="ibox_array_item2_text" style="margin: 0px\; padding: 0px\; outline: 0px\; border: 0px currentColor\; vertical-align: baseline\;">After a good run/walk\, we know you&#39\;re going to be craving a good delicious breakfast. This year\, the Canyon High School Football Team is partnering with the AHCC and Rotary to bring you our annual Pancake Breakfast. See you there!</div>\n</div>\n</div>\n</div>\n\n<div class="span4 ibox top-aligned  wrap-image fix" style="margin: 0px 0px 0px 17.31px\; padding: 0px\; outline: 0px\; border: 0px currentColor\; width: 259.84px\; text-align: center\; vertical-align: baseline\; float: left\;">\n<div class="ibox-media img" style="margin: 0px auto\; padding: 0px\; outline: 0px\; border: 0px currentColor\; vertical-align: baseline\; max-width: 70%\;">&nbsp\;</div>\n\n<div class="ibox-text bd" style="margin: 0px\; padding: 0px\; outline: 0px\; border: 0px currentColor\; vertical-align: baseline\;">\n<h4 data-sync="ibox_array_item3_title" style="margin: 0.4em 0px 5px\; padding: 0px\; outline: 0px\; border: 0px currentColor\; line-height: 1.4em\; font-family: Cabin\, arial\, sans-serif\; font-size: 22.4px\; vertical-align: baseline\; text-rendering: optimizeLegibility\;">Yankee Doodle Dog Show<br />\n9:30am</h4>\n\n<div class="ibox-desc" style="margin: 0px auto\; padding: 0px\; outline: 0px\; border: 0px currentColor\; vertical-align: baseline\; max-width: 300px\;">\n<div data-sync="ibox_array_item3_text" style="margin: 0px\; padding: 0px\; outline: 0px\; border: 0px currentColor\; vertical-align: baseline\;">&nbsp\;Yankee Doodle came to town\, with his little puppy!Our annual dog show is sure to be a hit! Dress up your favorite K-9 friend and you may win a prize! It&#39\;s sure to be the best &quot\;dog-gone&quot\; show this 4th of July!</div>\n</div>\n</div>\n</div>\n</div>\n</div>\n</div>\n</section>\n</div>\n\n<div class="row grid-row" style="background: rgb(255\, 255\, 255)\; margin: 0px\; padding: 0px\; outline: 0px\; border: 0px currentColor\; width: 814.2px\; line-height: 27px\; font-family: Nobile\, Corbel\, Arial\, sans-serif\; font-size: 18px\; vertical-align: baseline\;">\n<section class="pl-section span12 offset0    pl-bg-cover section-ibox" data-clone="uwyojkx" data-object="pliBox" data-sid="ibox" id="iboxuwyojkx" style="background-position: 50% 50%\; width: 814.2px\; clear: both\; margin-bottom: 0px\; margin-left: 0px\; float: left\; background-size: cover\; -webkit-background-size: cover\;">\n<div class="pl-section-pad fix" style="margin: 0px\; padding: 15px 0px\; outline: 0px\; border: 0px currentColor\; vertical-align: baseline\;">\n<div class="ibox-wrapper pl-animation-group" style="margin: 0px\; padding: 0px\; outline: 0px\; border: 0px currentColor\; vertical-align: baseline\;">\n<div class="row fix" style="margin: 0px\; padding: 0px\; outline: 0px\; border: 0px currentColor\; width: 814.2px\; vertical-align: baseline\;">\n<div class="span4 ibox top-aligned  wrap-image fix" style="margin: 0px\; padding: 0px\; outline: 0px\; border: 0px currentColor\; width: 259.84px\; text-align: center\; clear: both\; vertical-align: baseline\; float: left\;">\n<div class="ibox-media img" style="margin: 0px auto\; padding: 0px\; outline: 0px\; border: 0px currentColor\; vertical-align: baseline\; max-width: 70%\;">&nbsp\;</div>\n\n<div class="ibox-text bd" style="margin: 0px\; padding: 0px\; outline: 0px\; border: 0px currentColor\; vertical-align: baseline\;">\n<h4 data-sync="ibox_array_item1_title" style="margin: 0.4em 0px 5px\; padding: 0px\; outline: 0px\; border: 0px currentColor\; line-height: 1.4em\; font-family: Cabin\, arial\, sans-serif\; font-size: 22.4px\; vertical-align: baseline\; text-rendering: optimizeLegibility\;">Patriotic Parade<br />\n1:00pm</h4>\n\n<div class="ibox-desc" style="margin: 0px auto\; padding: 0px\; outline: 0px\; border: 0px currentColor\; vertical-align: baseline\; max-width: 300px\;">\n<div data-sync="ibox_array_item1_text" style="margin: 0px\; padding: 0px\; outline: 0px\; border: 0px currentColor\; vertical-align: baseline\;">If you&#39\;ve never been to our Annual Patriotic Parade\, you&#39\;ve been missing out on some serious community pride! This year&#39\;s theme is &ldquo\;It&rsquo\;s A Grand Old Flag&rdquo\; and is sure to be the biggest in our history of the event. Contact us if you&#39\;d like to be a part of it!</div>\n</div>\n</div>\n</div>\n\n<div class="span4 ibox top-aligned  wrap-image fix" style="margin: 0px 0px 0px 17.31px\; padding: 0px\; outline: 0px\; border: 0px currentColor\; width: 259.84px\; text-align: center\; vertical-align: baseline\; float: left\;">\n<div class="ibox-media img" style="margin: 0px auto\; padding: 0px\; outline: 0px\; border: 0px currentColor\; vertical-align: baseline\; max-width: 70%\;">&nbsp\;</div>\n\n<div class="ibox-text bd" style="margin: 0px\; padding: 0px\; outline: 0px\; border: 0px currentColor\; vertical-align: baseline\;">\n<h4 data-sync="ibox_array_item2_title" style="margin: 0.4em 0px 5px\; padding: 0px\; outline: 0px\; border: 0px currentColor\; line-height: 1.4em\; font-family: Cabin\, arial\, sans-serif\; font-size: 22.4px\; vertical-align: baseline\; text-rendering: optimizeLegibility\;">Fun in the Park!<br />\n3:00pm - 8:45pm</h4>\n\n<div class="ibox-desc" style="margin: 0px auto\; padding: 0px\; outline: 0px\; border: 0px currentColor\; vertical-align: baseline\; max-width: 300px\;">\n<div data-sync="ibox_array_item2_text" style="margin: 0px\; padding: 0px\; outline: 0px\; border: 0px currentColor\; vertical-align: baseline\;">Outdoor Fun? Live Music on a Stage? Delicious food and drinks? Community Vendors? CHECK! Join us at Peralta Park following the Patriotic Parade for some live music and food as we countdown to the firework show.</div>\n</div>\n</div>\n</div>\n\n<div class="span4 ibox top-aligned  wrap-image fix" style="margin: 0px 0px 0px 17.31px\; padding: 0px\; outline: 0px\; border: 0px currentColor\; width: 259.84px\; text-align: center\; vertical-align: baseline\; float: left\;">\n<div class="ibox-media img" style="margin: 0px auto\; padding: 0px\; outline: 0px\; border: 0px currentColor\; vertical-align: baseline\; max-width: 70%\;">&nbsp\;</div>\n\n<div class="ibox-text bd" style="margin: 0px\; padding: 0px\; outline: 0px\; border: 0px currentColor\; vertical-align: baseline\;">\n<h4 data-sync="ibox_array_item3_title" style="margin: 0.4em 0px 5px\; padding: 0px\; outline: 0px\; border: 0px currentColor\; line-height: 1.4em\; font-family: Cabin\, arial\, sans-serif\; font-size: 22.4px\; vertical-align: baseline\; text-rendering: optimizeLegibility\;">Firework Show Spectacular<br />\n9:00pm</h4>\n\n<div class="ibox-desc" style="margin: 0px auto\; padding: 0px\; outline: 0px\; border: 0px currentColor\; vertical-align: baseline\; max-width: 300px\;">\n<div data-sync="ibox_array_item3_text" style="margin: 0px\; padding: 0px\; outline: 0px\; border: 0px currentColor\; vertical-align: baseline\;">Put on by one of the best firework companies in the nation\, the big Finale to the 4th of July Celebration is nothing short of spectacular. Accompanied by patriotic tunes\, bring the family as we light up the night!</div>\n</div>\n</div>\n</div>\n</div>\n</div>\n</div>\n</section>\n</div>\n
LOCATION:
UID:e.2108.1668
SEQUENCE:3
DTSTAMP:20260420T140306Z
URL:https://business.anaheimchamber.org/events/details/anaheim-hills-community-council-fourth-of-july-celebration-07-04-2015-1668
END:VEVENT

END:VCALENDAR
