BEGIN:VCALENDAR
VERSION:2.0
PRODID:-//ChamberMaster//Event Calendar 2.0//EN
METHOD:PUBLISH
X-PUBLISHED-TTL:P3D
REFRESH-INTERVAL:P3D
CALSCALE:GREGORIAN
BEGIN:VEVENT
DTSTART;VALUE=DATE:20140704
DTEND;VALUE=DATE:20140705
TRANSP:TRANSPARENT
X-MICROSOFT-CDO-ALLDAYEVENT:TRUE
SUMMARY:Anaheim Hills Fourth of July Celebration
DESCRIPTION:The Anaheim Hills Fourth of July celebration is comprised of multiple events throughout the day including: the Anaheim Hills Firecracker 5K/10K run\, a pancake breakfast\, the Yankee Doodle Dog Show\, a live concert\, food booths\, the Fourth of July Parade\, and a professional fireworks display.
X-ALT-DESC;FMTTYPE=text/html:The Anaheim Hills Fourth of July celebration is comprised of multiple events throughout the day including: the Anaheim Hills Firecracker 5K/10K run\, a pancake breakfast\, the Yankee Doodle Dog Show\, a live concert\, food booths\, the Fourth of July Parade\, and a professional fireworks display.
LOCATION:Firecracker Run\, Pancake Breakfast and Dog Show are held at: Canyon High School 220 S. Imperial Highway Anaheim\, CA 92807 Food Booths\, Live Music and Fireworks Show will be held at: Peralta Canyon Park 115 N. Pinney Drive Anaheim\, CA 92807 The Parade will travel from Canyon High School along Santa Ana Canyon Road to Peralta Canyon Park.
UID:e.2108.1463
SEQUENCE:3
DTSTAMP:20260419T203751Z
URL:https://business.anaheimchamber.org/events/details/anaheim-hills-fourth-of-july-celebration-07-04-2014-1463
END:VEVENT

END:VCALENDAR
