BEGIN:VCALENDAR
VERSION:2.0
PRODID:-//ChamberMaster//Event Calendar 2.0//EN
METHOD:PUBLISH
X-PUBLISHED-TTL:P3D
REFRESH-INTERVAL:P3D
CALSCALE:GREGORIAN
BEGIN:VEVENT
DTSTART:20140611T170000Z
DTEND:20140611T220000Z
X-MICROSOFT-CDO-ALLDAYEVENT:FALSE
SUMMARY:Anaheim/OC Job Fair
DESCRIPTION:The Anaheim/OC Job Fair is a free event open to the public to help connect employers with job seekers. The event features free admission\, parking\, resume review\, military veteran resources\, career workshops\, Wi-Fi and Internet Cafe.
X-ALT-DESC;FMTTYPE=text/html:The Anaheim/OC Job Fair is a free event open to the public to help connect employers with job seekers. The event features free admission\, parking\, resume review\, military veteran resources\, career workshops\, Wi-Fi and Internet Cafe.
LOCATION:
UID:e.2108.1462
SEQUENCE:3
DTSTAMP:20260419T173728Z
URL:https://business.anaheimchamber.org/events/details/anaheim-oc-job-fair-06-11-2014-1462
END:VEVENT

END:VCALENDAR
