BEGIN:VCALENDAR
VERSION:2.0
PRODID:-//ChamberMaster//Event Calendar 2.0//EN
METHOD:PUBLISH
X-PUBLISHED-TTL:P3D
REFRESH-INTERVAL:P3D
CALSCALE:GREGORIAN
BEGIN:VEVENT
DTSTART:20150617T170000Z
DTEND:20150617T220000Z
X-MICROSOFT-CDO-ALLDAYEVENT:FALSE
SUMMARY:Anaheim/OC Job Fair
DESCRIPTION:Anaheim/OC Job Fair
X-ALT-DESC;FMTTYPE=text/html:Anaheim/OC Job Fair
LOCATION:Anaheim Convention Center Hall E
UID:e.2108.1651
SEQUENCE:3
DTSTAMP:20260420T123153Z
URL:https://business.anaheimchamber.org/events/details/anaheim-oc-job-fair-06-17-2015-1651
END:VEVENT

END:VCALENDAR
