BEGIN:VCALENDAR
VERSION:2.0
PRODID:-//ChamberMaster//Event Calendar 2.0//EN
METHOD:PUBLISH
X-PUBLISHED-TTL:P3D
REFRESH-INTERVAL:P3D
CALSCALE:GREGORIAN
BEGIN:VEVENT
DTSTART:20180805T210000Z
DTEND:20180805T230000Z
X-MICROSOFT-CDO-ALLDAYEVENT:FALSE
SUMMARY:Anaheim Performing Arts Guild's Summer Soiree
DESCRIPTION:APAG Proudly Presents Our Annual Summer Soiree! Sunday\, August 5\, 2018 2:00pm-4:00pm Space 252 451 W. Lincoln Ave # 252 Anaheim\, CA 92805 $25.00 Featuring: Briana Bonilla Brooklyn Vizcarra Molly Mahoney Perry Carter & Ginger Silverman Victoria Mulock Accompanied by Eddy Clement All proceeds from this event go towards supporting the Anaheim Performing Arts Center Foundation in fulfilling its mission to build a performing arts center in Anaheim!
X-ALT-DESC;FMTTYPE=text/html:<span style="color:rgb(104\, 104\, 104)\; font-family:sq market\,helvetica\,arial\,hiragino kaku gothic pro\,?????? pro w3\,????\,meiryo\,ms p????\,sans-serif\; font-size:16px">APAG Proudly Presents Our Annual Summer Soiree! Sunday\, August 5\, 2018 2:00pm-4:00pm Space 252 451 W. Lincoln Ave # 252 Anaheim\, CA 92805 $25.00 Featuring: Briana Bonilla Brooklyn Vizcarra Molly Mahoney Perry Carter &amp\; Ginger Silverman Victoria Mulock Accompanied by Eddy Clement All proceeds from this event go towards supporting the Anaheim Performing Arts Center Foundation in fulfilling its mission to build a performing arts center in Anaheim!</span>
LOCATION:Space 252 451 W. Lincoln Ave. #252 Anaheim\, CA 92805
UID:e.2108.2495
SEQUENCE:3
DTSTAMP:20260423T012841Z
URL:https://business.anaheimchamber.org/events/details/anaheim-performing-arts-guild-s-summer-soiree-2495
END:VEVENT

END:VCALENDAR
