BEGIN:VCALENDAR
VERSION:2.0
PRODID:-//ChamberMaster//Event Calendar 2.0//EN
METHOD:PUBLISH
X-PUBLISHED-TTL:P3D
REFRESH-INTERVAL:P3D
CALSCALE:GREGORIAN
BEGIN:VEVENT
DTSTART:20180503T160000Z
DTEND:20180503T190000Z
X-MICROSOFT-CDO-ALLDAYEVENT:FALSE
SUMMARY:Anaheim Resort Job Fair
DESCRIPTION:With exciting changes coming to Anaheim\,  the Anaheim Resort business community will host the 2018 Anaheim Resort Job Fair at Disney's Paradise Pier Hotel on May 3rd. The job fair will include some of Anaheim's biggest employers including hotels\, restaurants and other tourism related businesses looking for job seekers to join their teams.
X-ALT-DESC;FMTTYPE=text/html:With exciting changes coming to Anaheim\, &nbsp\;the Anaheim Resort business community will host the 2018 Anaheim Resort Job Fair at Disney&rsquo\;s Paradise Pier Hotel on May 3rd. The job fair will include some of Anaheim&rsquo\;s biggest employers including hotels\, restaurants and other tourism related businesses looking for job seekers to join their teams.
LOCATION:DISNEY'S PARADISE PIER HOTEL PACIFIC BALLROOM FREE PARKING INSTRUCTIONS Job seekers will park in the Paradise Pier Hotel general parking and receive a ticket upon entering the parking lot. Take the parking ticket to the Anaheim Resort Job Fair event taking place in the "Pacific Ballroom" and request validation at the registration desk. You will need a validated ticket in order to leave general parking lot.
UID:e.2108.2470
SEQUENCE:3
DTSTAMP:20260422T204805Z
URL:https://business.anaheimchamber.org/events/details/anaheim-resort-job-fair-2470
END:VEVENT

END:VCALENDAR
