BEGIN:VCALENDAR
VERSION:2.0
PRODID:-//ChamberMaster//Event Calendar 2.0//EN
METHOD:PUBLISH
X-PUBLISHED-TTL:P3D
REFRESH-INTERVAL:P3D
CALSCALE:GREGORIAN
BEGIN:VEVENT
DTSTART:20170422T150000Z
DTEND:20170422T173000Z
X-MICROSOFT-CDO-ALLDAYEVENT:FALSE
SUMMARY:Angels Baseball 5K & Fun Run
DESCRIPTION:Join the Angels for the 7th annual Angels Baseball Foundation 5K & Family Fun Run presented by St. Joseph Hoag Health on April 22nd! The first 5\,000 registered runners will receive a commemorative race shirt\, finisher medal and a ticket voucher to select 2017 Angels home games. Proceeds from the event will benefit the Angels Baseball Foundation and their continuing efforts to improve the lives of children in our community.
X-ALT-DESC;FMTTYPE=text/html:Join the Angels for the 7th annual Angels Baseball Foundation 5K &amp\; Family Fun Run presented by St. Joseph Hoag Health on April 22nd! The first 5\,000 registered runners will receive a commemorative race shirt\, finisher medal and a ticket voucher to select 2017 Angels home games. Proceeds from the event will benefit the Angels Baseball Foundation and their continuing efforts to improve the lives of children in our community.
LOCATION:Angels Stadium of Anaheim 2000 E Gene Autry Way Anaheim\, CA 92806
UID:e.2108.2313
SEQUENCE:3
DTSTAMP:20260421T233855Z
URL:https://business.anaheimchamber.org/events/details/angels-baseball-5k-fun-run-2313
END:VEVENT

END:VCALENDAR
