BEGIN:VCALENDAR
VERSION:2.0
PRODID:-//ChamberMaster//Event Calendar 2.0//EN
METHOD:PUBLISH
X-PUBLISHED-TTL:P3D
REFRESH-INTERVAL:P3D
CALSCALE:GREGORIAN
BEGIN:VEVENT
DTSTART:20201027T170000Z
DTEND:20201027T180000Z
X-MICROSOFT-CDO-ALLDAYEVENT:FALSE
SUMMARY:Avoid Small Business Marketing Pitfalls That Limit Your Growth
DESCRIPTION:With so many marketing options available for small businesses\, where should you allocate your budget and resources in order to maximize results?  You're not alone if you feel overwhelmed in how to market your business and stretch the budget in order to generate the best ROI (return on investment).  \n\nThis informative webinar will cover: \n\n            Common small business marketing pitfalls to avoid.\n\n            How to prioritize your marketing efforts.\n\n            How to build a solid foundation for your business by having a well-define target audience.\n\n            Optimizing your website for your target audience and how to motivate them to take action.\n\n            Top cost-effective digital marketing methods to drive sales\, leads & customer loyalty. \n\nJoin us and take away actionable items you can implement right away! \n\nRegistration is limited so don't delay\, register today!
X-ALT-DESC;FMTTYPE=text/html:<p style="margin: 0px 0px 18px\; padding: 0px\; color: rgb(51\, 51\, 51)\; font-family: Arial\, Helvetica\, sans-serif\; font-size: 12px\;"><span style="font-size: 12pt\;" title="">With so many marketing options available for small businesses\, where should you allocate your budget and resources in order to maximize results?&nbsp\; You&rsquo\;re not alone if you feel overwhelmed in how to market your business and stretch the budget in order to generate the best ROI (return on investment).&nbsp\;&nbsp\;</span></p>\n\n<p style="margin: 0px 0px 18px\; padding: 0px\; color: rgb(51\, 51\, 51)\; font-family: Arial\, Helvetica\, sans-serif\; font-size: 12px\;"><span style="font-size: 12pt\;" title="">This informative webinar will cover:&nbsp\;</span></p>\n\n<p style="margin: 0px 0px 18px\; padding: 0px\; color: rgb(51\, 51\, 51)\; font-family: Arial\, Helvetica\, sans-serif\; font-size: 12px\;"><span style="font-size: 12pt\;" title="">&bull\;&nbsp\;&nbsp\;&nbsp\;&nbsp\;&nbsp\;&nbsp\;&nbsp\;&nbsp\;&nbsp\;&nbsp\; Common small business marketing pitfalls to avoid.</span></p>\n\n<p style="margin: 0px 0px 18px\; padding: 0px\; color: rgb(51\, 51\, 51)\; font-family: Arial\, Helvetica\, sans-serif\; font-size: 12px\;"><span style="font-size: 12pt\;" title="">&bull\;&nbsp\;&nbsp\;&nbsp\;&nbsp\;&nbsp\;&nbsp\;&nbsp\;&nbsp\;&nbsp\;&nbsp\; How to prioritize your marketing efforts.</span></p>\n\n<p style="margin: 0px 0px 18px\; padding: 0px\; color: rgb(51\, 51\, 51)\; font-family: Arial\, Helvetica\, sans-serif\; font-size: 12px\;"><span style="font-size: 12pt\;" title="">&bull\;&nbsp\;&nbsp\;&nbsp\;&nbsp\;&nbsp\;&nbsp\;&nbsp\;&nbsp\;&nbsp\;&nbsp\; How to build a solid foundation for your business by having a well-define target audience.</span></p>\n\n<p style="margin: 0px 0px 18px\; padding: 0px\; color: rgb(51\, 51\, 51)\; font-family: Arial\, Helvetica\, sans-serif\; font-size: 12px\;"><span style="font-size: 12pt\;" title="">&bull\;&nbsp\;&nbsp\;&nbsp\;&nbsp\;&nbsp\;&nbsp\;&nbsp\;&nbsp\;&nbsp\;&nbsp\; Optimizing your website for your target audience and how to motivate them to take action.</span></p>\n\n<p style="margin: 0px 0px 18px\; padding: 0px\; color: rgb(51\, 51\, 51)\; font-family: Arial\, Helvetica\, sans-serif\; font-size: 12px\;"><span style="font-size: 12pt\;" title="">&bull\;&nbsp\;&nbsp\;&nbsp\;&nbsp\;&nbsp\;&nbsp\;&nbsp\;&nbsp\;&nbsp\;&nbsp\; Top cost-effective digital marketing methods to drive sales\, leads &amp\; customer loyalty.&nbsp\;</span></p>\n\n<p style="margin: 0px 0px 18px\; padding: 0px\; color: rgb(51\, 51\, 51)\; font-family: Arial\, Helvetica\, sans-serif\; font-size: 12px\;"><span style="font-size: 12pt\;" title="">Join us and take away actionable items you can implement right away!&nbsp\;</span></p>\n\n<p style="margin: 0px 0px 18px\; padding: 0px\; color: rgb(51\, 51\, 51)\; font-family: Arial\, Helvetica\, sans-serif\; font-size: 12px\;"><span style="font-size: 12pt\;" title="">Registration is limited so don&rsquo\;t delay\, register today!&nbsp\;</span></p>\n
LOCATION:Webinar
UID:e.2108.3718
SEQUENCE:3
DTSTAMP:20260424T175857Z
URL:https://business.anaheimchamber.org/events/details/avoid-small-business-marketing-pitfalls-that-limit-your-growth-3718
END:VEVENT

END:VCALENDAR
