BEGIN:VCALENDAR
VERSION:2.0
PRODID:-//ChamberMaster//Event Calendar 2.0//EN
METHOD:PUBLISH
X-PUBLISHED-TTL:P3D
REFRESH-INTERVAL:P3D
CALSCALE:GREGORIAN
BEGIN:VEVENT
DTSTART:20210119T200000Z
DTEND:20210119T200000Z
X-MICROSOFT-CDO-ALLDAYEVENT:FALSE
SUMMARY:Avoid These Common Marketing Mistakes in 2021
DESCRIPTION:With so many marketing options available for small businesses\, where should you allocate your budget and resources in order to maximize results in 2021?  You're not alone if you feel overwhelmed in how to market your business and stretch the budget in order to generate the best ROI (return on investment). \n\n This informative webinar will cover: \n\n\n	Common small business marketing mistakes to avoid\n	How to prioritize your marketing efforts\n	How to build a solid foundation for your business by having a well-define target audience\n	Optimizing your website for your target audience and how to motivate them to take action\n	Top cost-effective digital marketing methods to drive sales\, leads & customer loyalty\n\n\nJoin us and take away actionable items you can implement right away! \n\nPresenter:\n\nVictoria Byrne is the founder of Creative Marketing Services\, LLC. She has worked in corporate as well as small business marketing for over 18 years\, helping her clients achieve optimal results through a combination of creative and cost-effective marketing initiatives. Victoria is a Certified Constant Contact Solution Provider & All-Star Email Marketing Award Winner and regularly speaks at educational seminars & webinars where she shares tips and advice on a variety of digital marketing methods.
X-ALT-DESC;FMTTYPE=text/html:<p style="margin: 0px 0px 18px\; padding: 0px\; color: rgb(51\, 51\, 51)\; font-family: Arial\, Helvetica\, sans-serif\; font-size: 12px\;"><span style="font-size: 12pt\; color: rgb(0\, 0\, 0)\;" title="">With so many marketing options available for small businesses\, where should you allocate your budget and resources in order to maximize results in 2021?&nbsp\; You&rsquo\;re not alone if you feel overwhelmed in how to market your business and stretch the budget in order to generate the best ROI (return on investment).&nbsp\;</span></p>\n\n<p style="margin: 0px 0px 18px\; padding: 0px\; color: rgb(51\, 51\, 51)\; font-family: Arial\, Helvetica\, sans-serif\; font-size: 12px\;"><strong><span style="font-size: 12pt\; color: rgb(0\, 0\, 0)\;" title="">&nbsp\;This informative webinar will cover:&nbsp\;</span></strong></p>\n\n<ul style="margin: 18px 0px 18px 18px\; padding: 0px\; list-style-position: outside\; list-style-image: initial\; color: rgb(51\, 51\, 51)\; font-family: Arial\, Helvetica\, sans-serif\; font-size: 12px\;">\n	<li style="margin: 0px\; padding: 0px\; color: rgb(0\, 0\, 0)\;"><span style="font-size: 12pt\;" title="">Common small business marketing mistakes to avoid</span></li>\n	<li style="margin: 0px\; padding: 0px\; color: rgb(0\, 0\, 0)\;"><span style="font-size: 12pt\;" title="">How to prioritize your marketing efforts</span></li>\n	<li style="margin: 0px\; padding: 0px\; color: rgb(0\, 0\, 0)\;"><span style="font-size: 12pt\;" title="">How to build a solid foundation for your business by having a well-define target audience</span></li>\n	<li style="margin: 0px\; padding: 0px\; color: rgb(0\, 0\, 0)\;"><span style="font-size: 12pt\;" title="">Optimizing your website for your target audience and how to motivate them to take action</span></li>\n	<li style="margin: 0px\; padding: 0px\; color: rgb(0\, 0\, 0)\;"><span style="font-size: 12pt\;" title="">Top cost-effective digital marketing methods to drive sales\, leads &amp\; customer loyalty</span></li>\n</ul>\n\n<h2 style="margin: 0px 0px auto\; padding: 0px\; font-weight: normal\; font-size: 18px\; color: rgb(0\, 120\, 193)\; font-family: Arial\, Helvetica\, sans-serif\;"><span style="font-size: 12pt\; color: rgb(0\, 0\, 0)\;" title="">Join us and take away actionable items you can implement right away!</span>&nbsp\;</h2>\n\n<p style="margin: 0px 0px 18px\; padding: 0px\; color: rgb(51\, 51\, 51)\; font-family: Arial\, Helvetica\, sans-serif\; font-size: 12px\;"><span style="font-size: 12pt\; color: rgb(0\, 0\, 0)\;" title=""><b>Presenter:</b></span></p>\n\n<p style="margin: 0px 0px 18px\; padding: 0px\; color: rgb(51\, 51\, 51)\; font-family: Arial\, Helvetica\, sans-serif\; font-size: 12px\;"><span style="font-size: 12pt\; color: rgb(0\, 0\, 0)\;" title=""><b>Victoria Byrne is the founder of Creative Marketing Services\, LLC.</b>&nbsp\;She has worked in corporate as well as small business marketing for over 18 years\, helping her clients achieve optimal results through a combination of creative and cost-effective marketing initiatives. Victoria is a Certified Constant Contact Solution Provider &amp\; All-Star Email Marketing Award Winner and regularly speaks at educational seminars &amp\; webinars where she shares tips and advice on a variety of digital marketing methods.</span></p>\n
LOCATION:Webinar
UID:e.2108.3821
SEQUENCE:3
DTSTAMP:20260424T152843Z
URL:https://business.anaheimchamber.org/events/details/avoid-these-common-marketing-mistakes-in-2021-3821
END:VEVENT

END:VCALENDAR
