BEGIN:VCALENDAR
VERSION:2.0
PRODID:-//ChamberMaster//Event Calendar 2.0//EN
METHOD:PUBLISH
X-PUBLISHED-TTL:P3D
REFRESH-INTERVAL:P3D
CALSCALE:GREGORIAN
BEGIN:VEVENT
DTSTART:20210203T200000Z
DTEND:20210203T213000Z
X-MICROSOFT-CDO-ALLDAYEVENT:FALSE
SUMMARY:Basic Sales and Use Tax
DESCRIPTION:2/3/2021 Basic Sales and Use Tax Webinar\n\n\n \n\n \n\nGain an understanding of sales and use tax\, district tax\, taxable and nontaxable labor\, as well as foreign and interstate taxability. Learn if you need a seller's permit and how to use a resale certificate. Discover exemptions and deductions which may be available to you. Determine how AB 147 and the Market Place Facilitator Act affects your business. This webinar\, conducted through Microsoft Teams\, should be viewed via a pc or laptop\, NOT a phone or mobile device. After registering\, you will be emailed a link to the Microsoft Teams webinar the day before the class.
X-ALT-DESC;FMTTYPE=text/html:<h1 style="box-sizing: border-box\; margin-top: 0.67em\; margin-bottom: 0.55em\; font-size: 2.5rem\; font-family: &quot\;Asap Condensed&quot\;\, sans-serif\; color: rgb(4\, 57\, 81)\; background-color: rgb(245\, 245\, 245)\;">2/3/2021 Basic Sales and Use Tax Webinar</h1>\n\n<form action="https://www.cdtfa.ca.gov/seminar/seminar.aspx?flag=1185" id="seminarForm" method="post" style="box-sizing: border-box\; color: rgb(0\, 0\, 0)\; font-family: &quot\;Source Sans Pro&quot\;\, sans-serif\; font-size: 19.2px\; background-color: rgb(245\, 245\, 245)\;">\n<div class="aspNetHidden" style="box-sizing: border-box\;">&nbsp\;</div>\n\n<div class="aspNetHidden" style="box-sizing: border-box\;">&nbsp\;</div>\n\n<p style="box-sizing: border-box\; margin-top: 0px\; margin-bottom: 0.7rem\;">Gain an understanding of sales and use tax\, district tax\, taxable and nontaxable labor\, as well as foreign and interstate taxability. Learn if you need a seller&rsquo\;s permit and how to use a resale certificate. Discover exemptions and deductions which may be available to you. Determine how AB 147 and the Market Place Facilitator Act affects your business. This webinar\, conducted through Microsoft Teams\, should be viewed via a pc or laptop\, NOT a phone or mobile device. After registering\, you will be emailed a link to the Microsoft Teams webinar the day before the class.</p>\n</form>\n
LOCATION:Webinar
UID:e.2108.3910
SEQUENCE:3
DTSTAMP:20260423T072523Z
URL:https://business.anaheimchamber.org/events/details/basic-sales-and-use-tax-3910
END:VEVENT

END:VCALENDAR
