BEGIN:VCALENDAR
VERSION:2.0
PRODID:-//ChamberMaster//Event Calendar 2.0//EN
METHOD:PUBLISH
X-PUBLISHED-TTL:P3D
REFRESH-INTERVAL:P3D
CALSCALE:GREGORIAN
BEGIN:VEVENT
DTSTART:20170301T020000Z
DTEND:20170301T033000Z
X-MICROSOFT-CDO-ALLDAYEVENT:FALSE
SUMMARY:Become a Farmers Agency Owner - Learn How!
DESCRIPTION:CALLING ALL ENTREPRENEURS\, INVESTORS AND SMALL BUSINESS OWNERS!\n\nYou know what it takes to run your own business. Now run one with unlimited earning potential. Start your own Farmers Agency and make commissions for every policy you sell or renew. That's an upside you may not find with other opportunities and the reason why the insurance industry is the number one career choice for those who understand the benefit of Residual Income.\n\nCome learn about our BUILD or BUY options and what qualifies you to become an agency owner with Farmers.\n\nThis event will give you the answers to your most common questions on starting your own business with one of the Largest Insurance Companies in the Country.\n\n\n\n*DRINKS & HORS D'OEUVERS WILL BE SERVED FROM 6:00PM-6:30PM!*
X-ALT-DESC;FMTTYPE=text/html:<p><strong>CALLING ALL ENTREPRENEURS\, INVESTORS AND SMALL BUSINESS OWNERS!</strong></p>\n\n<p>You know what it takes to run your own business. Now run one with unlimited earning potential. Start your own Farmers Agency and make commissions for every policy you sell or renew. That&#39\;s an upside you may not find with other opportunities and the reason why the insurance industry is the number one career choice for those who understand the benefit of Residual Income.</p>\n\n<p>Come learn about our&nbsp\;<strong>BUILD or BUY</strong>&nbsp\;options and what qualifies you to become an agency owner with Farmers.</p>\n\n<p><strong>This event will give you the answers to your most common questions on starting your own business with one of the Largest Insurance Companies in the Country.<br />\n<br />\n<span style="color: rgb(128\, 0\, 0)\;"><em>*DRINKS &amp\; HORS D&#39\;OEUVERS WILL BE SERVED FROM 6:00PM-6:30PM!*</em></span></strong></p>\n
LOCATION:Farmers Insurance District 55 5101 E La Palma Ave Suite 104 Anaheim\, CA 92807
UID:e.2108.2295
SEQUENCE:3
DTSTAMP:20260421T202924Z
URL:https://business.anaheimchamber.org/events/details/become-a-farmers-agency-owner-lear-how-2295
END:VEVENT

END:VCALENDAR
