BEGIN:VCALENDAR
VERSION:2.0
PRODID:-//ChamberMaster//Event Calendar 2.0//EN
METHOD:PUBLISH
X-PUBLISHED-TTL:P3D
REFRESH-INTERVAL:P3D
CALSCALE:GREGORIAN
BEGIN:VEVENT
DTSTART:20210224T180000Z
DTEND:20210224T193000Z
X-MICROSOFT-CDO-ALLDAYEVENT:FALSE
SUMMARY:Branding Basics to Propel Your Business to the Next Level
DESCRIPTION:Branding is more than a logo or tagline. Discover what your business needs to stand out from the crowd and to ensure that the image your business portrays is actually the image being received. A strong brand that resonates with your target market can help create recognition\, trust\, and generate new customers.
X-ALT-DESC;FMTTYPE=text/html:<span style="font-family: Lato\, Arial\, Helvetica\, sans-serif\; font-size: 16px\;">Branding is more than a logo or tagline. Discover what your business needs to stand out from the crowd and to ensure that the image your business portrays is actually the image being received. A strong brand that resonates with your target market can help create recognition\, trust\, and generate new customers.</span>
LOCATION:Webinar
UID:e.2108.3895
SEQUENCE:3
DTSTAMP:20260423T054748Z
URL:https://business.anaheimchamber.org/events/details/branding-basics-to-propel-your-business-to-the-next-level-3895
END:VEVENT

END:VCALENDAR
